BEGIN:VCALENDAR
VERSION:2.0
PRODID:-//BIK - ECPv6.15.20//NONSGML v1.0//EN
CALSCALE:GREGORIAN
METHOD:PUBLISH
X-ORIGINAL-URL:https://www.kulturprojekte.com/en/
X-WR-CALDESC:Events for BIK
REFRESH-INTERVAL;VALUE=DURATION:PT1H
X-Robots-Tag:noindex
X-PUBLISHED-TTL:PT1H
BEGIN:VTIMEZONE
TZID:Europe/Berlin
BEGIN:DAYLIGHT
TZOFFSETFROM:+0100
TZOFFSETTO:+0200
TZNAME:CEST
DTSTART:20170326T010000
END:DAYLIGHT
BEGIN:STANDARD
TZOFFSETFROM:+0200
TZOFFSETTO:+0100
TZNAME:CET
DTSTART:20171029T010000
END:STANDARD
BEGIN:DAYLIGHT
TZOFFSETFROM:+0100
TZOFFSETTO:+0200
TZNAME:CEST
DTSTART:20180325T010000
END:DAYLIGHT
BEGIN:STANDARD
TZOFFSETFROM:+0200
TZOFFSETTO:+0100
TZNAME:CET
DTSTART:20181028T010000
END:STANDARD
BEGIN:DAYLIGHT
TZOFFSETFROM:+0100
TZOFFSETTO:+0200
TZNAME:CEST
DTSTART:20190331T010000
END:DAYLIGHT
BEGIN:STANDARD
TZOFFSETFROM:+0200
TZOFFSETTO:+0100
TZNAME:CET
DTSTART:20191027T010000
END:STANDARD
BEGIN:DAYLIGHT
TZOFFSETFROM:+0100
TZOFFSETTO:+0200
TZNAME:CEST
DTSTART:20200329T010000
END:DAYLIGHT
BEGIN:STANDARD
TZOFFSETFROM:+0200
TZOFFSETTO:+0100
TZNAME:CET
DTSTART:20201025T010000
END:STANDARD
END:VTIMEZONE
BEGIN:VEVENT
DTSTART;TZID=Europe/Berlin:20190622T193000
DTEND;TZID=Europe/Berlin:20190622T223000
DTSTAMP:20260424T123936
CREATED:20190311T110752Z
LAST-MODIFIED:20190311T133746Z
UID:926-1561231800-1561242600@www.kulturprojekte.com
SUMMARY:GLUCK: IPHIGÉNIE EN TAURIDE
DESCRIPTION:CHRISTOPH WILLIBALD GLUCK\n \nIPHIGÉNIE EN TAURIDE – opening night \nThomas Hengelbrock\, direction\nRobert Carsen\, staging\nPhilippe Giraudeau\, choreography\nTobias Hoheisel\, set and costumes\nRobert Carsen / Peter van Praet\, lighting \nGaëlle Arquez\, Iphigénie\nStéphane Degout\, Oreste\nPaolo Fanale\, Pylade\nAlexandre Duhamel\, Thoas\nCatherine Trottmann\, Diane \nBalthasar Neumann Choir\nBalthasar Neumann Ensemble 
URL:https://www.kulturprojekte.com/en/event/gluck-iphigenie-en-tauride/
LOCATION:Paris\, Théâtre des Champs-Elysées\, Frankreich
END:VEVENT
BEGIN:VEVENT
DTSTART;TZID=Europe/Berlin:20190622T193000
DTEND;TZID=Europe/Berlin:20190622T220000
DTSTAMP:20260424T123936
CREATED:20190524T081007Z
LAST-MODIFIED:20190524T081258Z
UID:1296-1561231800-1561240800@www.kulturprojekte.com
SUMMARY:HAUPTMANN: THE RATS
DESCRIPTION:GERHART HAUPTMANN\n \nTHE RATS \nHarro Hassenreuther: Sven-Eric Bechtolf\nHis wife: Sylvie Rohrer\nWalburga\, his daughter: Marie-Luise Stockinger\nReverend Spitta: Roland Koch\nErich Spitta\, his son: Christoph Luser\nAlice Rütterbusch\, actress: Andrea Wenzl\nKäferstein\, pupil of Hassenreuther: Stefan Hunstein\nHerr John\, bricklayer foreman: Oliver Stokowski\nFrau John\, cleaner for Hassenreuther: Johanna Wokalek\nBruno Mechelke\, her brother: Nicholas Ofczarek\nPauline Piperkarcka\, housemaid: Sarah Viktoria Frick\nMrs. Sidonie Knobbe: Andrea Clausen\nSelma\, her daughter: Alina Fritsch\nQuaquaro\, janitor: Branko Samarovski\nMrs. Kielbacke: Elisabeth Augustin\nConstable Schierke: Bernd Birkhahn \n  \nDirection: Andrea Breth\nSet: Martin Zehetgruber\nCostumes: Françoise Clavel\nMusic: Alexander Nefzger\nLighting: Friedrich Rom\nDramaturgy: Klaus Missbach
URL:https://www.kulturprojekte.com/en/event/hauptmann-die-ratten-9/
LOCATION:Wien\, Burgtheater\, Österreich
END:VEVENT
BEGIN:VEVENT
DTSTART;TZID=Europe/Berlin:20190621T193000
DTEND;TZID=Europe/Berlin:20190621T220000
DTSTAMP:20260424T123936
CREATED:20190524T080614Z
LAST-MODIFIED:20190524T080614Z
UID:1289-1561145400-1561154400@www.kulturprojekte.com
SUMMARY:HAUPTMANN: THE RATS
DESCRIPTION:GERHART HAUPTMANN\n \nTHE RATS \nHarro Hassenreuther: Sven-Eric Bechtolf\nHis wife: Sylvie Rohrer\nWalburga\, his daughter: Marie-Luise Stockinger\nReverend Spitta: Roland Koch\nErich Spitta\, his son: Christoph Luser\nAlice Rütterbusch\, actress: Andrea Wenzl\nKäferstein\, pupil of Hassenreuther: Stefan Hunstein\nHerr John\, bricklayer foreman: Oliver Stokowski\nFrau John\, cleaner for Hassenreuther: Johanna Wokalek\nBruno Mechelke\, her brother: Nicholas Ofczarek\nPauline Piperkarcka\, housemaid: Sarah Viktoria Frick\nMrs. Sidonie Knobbe: Andrea Clausen\nSelma\, her daughter: Alina Fritsch\nQuaquaro\, janitor: Branko Samarovski\nMrs. Kielbacke: Elisabeth Augustin\nConstable Schierke: Bernd Birkhahn \n  \nDirection: Andrea Breth\nSet: Martin Zehetgruber\nCostumes: Françoise Clavel\nMusic: Alexander Nefzger\nLighting: Friedrich Rom\nDramaturgy: Klaus Missbach
URL:https://www.kulturprojekte.com/en/event/hauptmann-the-rats-2/
LOCATION:Wien\, Burgtheater\, Österreich
END:VEVENT
BEGIN:VEVENT
DTSTART;TZID=Europe/Berlin:20190610T190000
DTEND;TZID=Europe/Berlin:20190610T213000
DTSTAMP:20260424T123936
CREATED:20190524T080537Z
LAST-MODIFIED:20190524T080537Z
UID:1287-1560193200-1560202200@www.kulturprojekte.com
SUMMARY:HAUPTMANN: THE RATS
DESCRIPTION:GERHART HAUPTMANN\n \nTHE RATS \nHarro Hassenreuther: Sven-Eric Bechtolf\nHis wife: Sylvie Rohrer\nWalburga\, his daughter: Marie-Luise Stockinger\nReverend Spitta: Roland Koch\nErich Spitta\, his son: Christoph Luser\nAlice Rütterbusch\, actress: Andrea Wenzl\nKäferstein\, pupil of Hassenreuther: Stefan Hunstein\nHerr John\, bricklayer foreman: Oliver Stokowski\nFrau John\, cleaner for Hassenreuther: Johanna Wokalek\nBruno Mechelke\, her brother: Nicholas Ofczarek\nPauline Piperkarcka\, housemaid: Sarah Viktoria Frick\nMrs. Sidonie Knobbe: Andrea Clausen\nSelma\, her daughter: Alina Fritsch\nQuaquaro\, janitor: Branko Samarovski\nMrs. Kielbacke: Elisabeth Augustin\nConstable Schierke: Bernd Birkhahn \n  \nDirection: Andrea Breth\nSet: Martin Zehetgruber\nCostumes: Françoise Clavel\nMusic: Alexander Nefzger\nLighting: Friedrich Rom\nDramaturgy: Klaus Missbach
URL:https://www.kulturprojekte.com/en/event/hauptmann-the-rats/
LOCATION:Wien\, Burgtheater\, Österreich
END:VEVENT
BEGIN:VEVENT
DTSTART;TZID=Europe/Berlin:20190606T203000
DTEND;TZID=Europe/Berlin:20190606T233000
DTSTAMP:20260424T123936
CREATED:20190521T125747Z
LAST-MODIFIED:20190521T125747Z
UID:1214-1559853000-1559863800@www.kulturprojekte.com
SUMMARY:GERSHWIN – ZIMMERMANN
DESCRIPTION:WILLIAM L. DAWSON\nTHE BOND OF AFRICA (from: Negro Folk Symphony) \nWILLIAM GRANT STILL\nPOEM for orchestra \nGEORGE GERSHWIN\nRHAPSODY IN BLUE \nBERND ALOIS ZIMMERMANN\nNOBODY KNOWS THE TROUBLE I SEE (trumpet concerto) \nJENNY PEÑA CAMPO\nCUBAN DANCE SUITE \n  \nHåkan Hardenberger\, trumpet\nStefano Bollani\, piano\nOrchestre de Paris\nThomas Hengelbrock
URL:https://www.kulturprojekte.com/en/event/gershwin-zimmermann-2/
LOCATION:Philharmonie de Paris\, Frankreich
END:VEVENT
BEGIN:VEVENT
DTSTART;TZID=Europe/Berlin:20190605T203000
DTEND;TZID=Europe/Berlin:20190605T233000
DTSTAMP:20260424T123936
CREATED:20190521T125152Z
LAST-MODIFIED:20190521T125404Z
UID:1212-1559766600-1559777400@www.kulturprojekte.com
SUMMARY:GERSHWIN – ZIMMERMANN
DESCRIPTION:WILLIAM L. DAWSON\nTHE BOND OF AFRICA (from: Negro Folk Symphony) \nWILLIAM GRANT STILL\nPOEM for orchestra \nGEORGE GERSHWIN\nRHAPSODY IN BLUE \nBERND ALOIS ZIMMERMANN\nNOBODY KNOWS THE TROUBLE I SEE (trumpet concerto) \nJENNY PEÑA CAMPO\nCUBAN DANCE SUITE \n  \nHåkan Hardenberger\, trumpet\nStefano Bollani\, piano\nOrchestre de Paris\nThomas Hengelbrock
URL:https://www.kulturprojekte.com/en/event/gershwin-zimmermann/
LOCATION:Philharmonie de Paris\, Frankreich
END:VEVENT
BEGIN:VEVENT
DTSTART;TZID=Europe/Berlin:20190602T190000
DTEND;TZID=Europe/Berlin:20190602T213000
DTSTAMP:20260424T123936
CREATED:20190429T102645Z
LAST-MODIFIED:20190429T103308Z
UID:1205-1559502000-1559511000@www.kulturprojekte.com
SUMMARY:HAUPTMANN: THE RATS
DESCRIPTION:GERHART HAUPTMANN\n \nTHE RATS \nHarro Hassenreuther: Sven-Eric Bechtolf\nHis wife: Sylvie Rohrer\nWalburga\, his daughter: Marie-Luise Stockinger\nReverend Spitta: Roland Koch\nErich Spitta\, his son: Christoph Luser\nAlice Rütterbusch\, actress: Andrea Wenzl\nKäferstein\, pupil of Hassenreuther: Stefan Hunstein\nHerr John\, bricklayer foreman: Oliver Stokowski\nFrau John\, cleaner for Hassenreuther: Johanna Wokalek\nBruno Mechelke\, her brother: Nicholas Ofczarek\nPauline Piperkarcka\, housemaid: Sarah Viktoria Frick\nMrs. Sidonie Knobbe: Andrea Clausen\nSelma\, her daughter: Alina Fritsch\nQuaquaro\, janitor: Branko Samarovski\nMrs. Kielbacke: Elisabeth Augustin\nConstable Schierke: Bernd Birkhahn \n  \nDirection: Andrea Breth\nSet: Martin Zehetgruber\nCostumes: Françoise Clavel\nMusic: Alexander Nefzger\nLighting: Friedrich Rom\nDramaturgy: Klaus Missbach
URL:https://www.kulturprojekte.com/en/event/hauptmann-die-ratten-7/
LOCATION:Wien\, Burgtheater\, Österreich
END:VEVENT
BEGIN:VEVENT
DTSTART;TZID=Europe/Berlin:20190513T193000
DTEND;TZID=Europe/Berlin:20190513T220000
DTSTAMP:20260424T123936
CREATED:20190429T102504Z
LAST-MODIFIED:20190429T103211Z
UID:1202-1557775800-1557784800@www.kulturprojekte.com
SUMMARY:HAUPTMANN: THE RATS
DESCRIPTION:GERHART HAUPTMANN\n \nTHE RATS \nHarro Hassenreuther: Sven-Eric Bechtolf\nHis wife: Sylvie Rohrer\nWalburga\, his daughter: Marie-Luise Stockinger\nReverend Spitta: Roland Koch\nErich Spitta\, his son: Christoph Luser\nAlice Rütterbusch\, actress: Andrea Wenzl\nKäferstein\, pupil of Hassenreuther: Stefan Hunstein\nHerr John\, bricklayer foreman: Oliver Stokowski\nFrau John\, cleaner for Hassenreuther: Johanna Wokalek\nBruno Mechelke\, her brother: Nicholas Ofczarek\nPauline Piperkarcka\, housemaid: Sarah Viktoria Frick\nMrs. Sidonie Knobbe: Andrea Clausen\nSelma\, her daughter: Alina Fritsch\nQuaquaro\, janitor: Branko Samarovski\nMrs. Kielbacke: Elisabeth Augustin\nConstable Schierke: Bernd Birkhahn \n  \nDirection: Andrea Breth\nSet: Martin Zehetgruber\nCostumes: Françoise Clavel\nMusic: Alexander Nefzger\nLighting: Friedrich Rom\nDramaturgy: Klaus Missbach
URL:https://www.kulturprojekte.com/en/event/hauptmann-die-ratten-6/
LOCATION:Wien\, Burgtheater\, Österreich
END:VEVENT
BEGIN:VEVENT
DTSTART;TZID=Europe/Berlin:20190512T190000
DTEND;TZID=Europe/Berlin:20190512T213000
DTSTAMP:20260424T123936
CREATED:20190429T102018Z
LAST-MODIFIED:20190429T102227Z
UID:1198-1557687600-1557696600@www.kulturprojekte.com
SUMMARY:HAUPTMANN: THE RATS
DESCRIPTION:GERHART HAUPTMANN\n \nTHE RATS \nHarro Hassenreuther: Sven-Eric Bechtolf\nHis wife: Sylvie Rohrer\nWalburga\, his daughter: Marie-Luise Stockinger\nReverend Spitta: Roland Koch\nErich Spitta\, his son: Christoph Luser\nAlice Rütterbusch\, actress: Andrea Wenzl\nKäferstein\, pupil of Hassenreuther: Stefan Hunstein\nHerr John\, bricklayer foreman: Oliver Stokowski\nFrau John\, cleaner for Hassenreuther: Johanna Wokalek\nBruno Mechelke\, her brother: Nicholas Ofczarek\nPauline Piperkarcka\, housemaid: Sarah Viktoria Frick\nMrs. Sidonie Knobbe: Andrea Clausen\nSelma\, her daughter: Alina Fritsch\nQuaquaro\, janitor: Branko Samarovski\nMrs. Kielbacke: Elisabeth Augustin\nConstable Schierke: Bernd Birkhahn \n  \nDirection: Andrea Breth\nSet: Martin Zehetgruber\nCostumes: Françoise Clavel\nMusic: Alexander Nefzger\nLighting: Friedrich Rom\nDramaturgy: Klaus Missbach
URL:https://www.kulturprojekte.com/en/event/hauptmann-die-ratten-5/
LOCATION:Wien\, Burgtheater\, Österreich
END:VEVENT
BEGIN:VEVENT
DTSTART;TZID=Europe/Berlin:20190510T203000
DTEND;TZID=Europe/Berlin:20190510T220000
DTSTAMP:20260424T123936
CREATED:20190304T153215Z
LAST-MODIFIED:20190304T153215Z
UID:899-1557520200-1557525600@www.kulturprojekte.com
SUMMARY:MOZART: REQUIEM
DESCRIPTION:JOHANN CASPAR KERLL\nMISSA SUPERBA \nW. A. MOZART\nREQUIEM d minor KV 626 \n  \nKatja Stuber\, soprano\nMarion Eckstein\, alto\nJan Petryka\, tenor\nReinhard Mayr\, bass\nBalthasar Neumann Choir & Soloists\nBalthasar Neumann Ensemble\nThomas Hengelbrock
URL:https://www.kulturprojekte.com/en/event/mozart-requiem-4/
LOCATION:Bologna\, Teatro Manzoni\, Italien
END:VEVENT
BEGIN:VEVENT
DTSTART;TZID=Europe/Berlin:20190413T180000
DTEND;TZID=Europe/Berlin:20190413T210000
DTSTAMP:20260424T123936
CREATED:20190325T104025Z
LAST-MODIFIED:20190325T104348Z
UID:951-1555178400-1555189200@www.kulturprojekte.com
SUMMARY:HAUPTMANN: THE RATS
DESCRIPTION:GERHART HAUPTMANN\n \nTHE RATS \nHarro Hassenreuther: Sven-Eric Bechtolf\nHis wife: Sylvie Rohrer\nWalburga\, his daughter: Marie-Luise Stockinger\nReverend Spitta: Roland Koch\nErich Spitta\, his son: Christoph Luser\nAlice Rütterbusch\, actress: Andrea Wenzl\nKäferstein\, pupil of Hassenreuther: Stefan Hunstein\nHerr John\, bricklayer foreman: Oliver Stokowski\nFrau John\, cleaner for Hassenreuther: Johanna Wokalek\nBruno Mechelke\, her brother: Nicholas Ofczarek\nPauline Piperkarcka\, housemaid: Sarah Viktoria Frick\nMrs. Sidonie Knobbe: Andrea Clausen\nSelma\, her daughter: Alina Fritsch\nQuaquaro\, janitor: Branko Samarovski\nMrs. Kielbacke: Elisabeth Augustin\nConstable Schierke: Bernd Birkhahn \n  \nDirection: Andrea Breth\nSet: Martin Zehetgruber\nCostumes: Françoise Clavel\nMusic: Alexander Nefzger\nLighting: Friedrich Rom\nDramaturgy: Klaus Missbach
URL:https://www.kulturprojekte.com/en/event/hauptmann-die-ratten-4/
LOCATION:Wien\, Burgtheater\, Österreich
END:VEVENT
BEGIN:VEVENT
DTSTART;TZID=Europe/Berlin:20190408T193000
DTEND;TZID=Europe/Berlin:20190408T223000
DTSTAMP:20260424T123936
CREATED:20190325T103729Z
LAST-MODIFIED:20190325T104751Z
UID:956-1554751800-1554762600@www.kulturprojekte.com
SUMMARY:HAUPTMANN: THE RATS
DESCRIPTION:GERHART HAUPTMANN\n \nTHE RATS \nHarro Hassenreuther: Sven-Eric Bechtolf\nHis wife: Sylvie Rohrer\nWalburga\, his daughter: Marie-Luise Stockinger\nReverend Spitta: Roland Koch\nErich Spitta\, his son: Christoph Luser\nAlice Rütterbusch\, actress: Andrea Wenzl\nKäferstein\, pupil of Hassenreuther: Stefan Hunstein\nHerr John\, bricklayer foreman: Oliver Stokowski\nFrau John\, cleaner for Hassenreuther: Johanna Wokalek\nBruno Mechelke\, her brother: Nicholas Ofczarek\nPauline Piperkarcka\, housemaid: Sarah Viktoria Frick\nMrs. Sidonie Knobbe: Andrea Clausen\nSelma\, her daughter: Alina Fritsch\nQuaquaro\, janitor: Branko Samarovski\nMrs. Kielbacke: Elisabeth Augustin\nConstable Schierke: Bernd Birkhahn \n  \nDirection: Andrea Breth\nSet: Martin Zehetgruber\nCostumes: Françoise Clavel\nMusic: Alexander Nefzger\nLighting: Friedrich Rom\nDramaturgy: Klaus Missbach
URL:https://www.kulturprojekte.com/en/event/hauptmann-die-ratten-3/
LOCATION:Wien\, Burgtheater\, Österreich
END:VEVENT
BEGIN:VEVENT
DTSTART;TZID=Europe/Berlin:20190331T190000
DTEND;TZID=Europe/Berlin:20190331T220000
DTSTAMP:20260424T123936
CREATED:20190325T103322Z
LAST-MODIFIED:20190325T104927Z
UID:959-1554058800-1554069600@www.kulturprojekte.com
SUMMARY:HAUPTMANN: THE RATS
DESCRIPTION:GERHART HAUPTMANN\n \nTHE RATS \nHarro Hassenreuther: Sven-Eric Bechtolf\nHis wife: Sylvie Rohrer\nWalburga\, his daughter: Marie-Luise Stockinger\nReverend Spitta: Roland Koch\nErich Spitta\, his son: Christoph Luser\nAlice Rütterbusch\, actress: Andrea Wenzl\nKäferstein\, pupil of Hassenreuther: Stefan Hunstein\nHerr John\, bricklayer foreman: Oliver Stokowski\nFrau John\, cleaner for Hassenreuther: Johanna Wokalek\nBruno Mechelke\, her brother: Nicholas Ofczarek\nPauline Piperkarcka\, housemaid: Sarah Viktoria Frick\nMrs. Sidonie Knobbe: Andrea Clausen\nSelma\, her daughter: Alina Fritsch\nQuaquaro\, janitor: Branko Samarovski\nMrs. Kielbacke: Elisabeth Augustin\nConstable Schierke: Bernd Birkhahn \n  \nDirection: Andrea Breth\nSet: Martin Zehetgruber\nCostumes: Françoise Clavel\nMusic: Alexander Nefzger\nLighting: Friedrich Rom\nDramaturgy: Klaus Missbach
URL:https://www.kulturprojekte.com/en/event/hauptmann-die-ratten-2/
LOCATION:Wien\, Burgtheater\, Österreich
END:VEVENT
BEGIN:VEVENT
DTSTART;TZID=Europe/Berlin:20190327T190000
DTEND;TZID=Europe/Berlin:20190327T230000
DTSTAMP:20260424T123936
CREATED:20190226T151741Z
LAST-MODIFIED:20190226T153239Z
UID:867-1553713200-1553727600@www.kulturprojekte.com
SUMMARY:Hauptmann: The rats
DESCRIPTION:GERHART HAUPTMANN\n \nTHE RATS – opening night \nHarro Hassenreuther: Sven-Eric Bechtolf\nHis wife: Sylvie Rohrer\nWalburga\, his daughter: Marie-Luise Stockinger\nReverend Spitta: Roland Koch\nErich Spitta\, his son: Christoph Luser\nAlice Rütterbusch\, actress: Andrea Wenzl\nKäferstein\, pupil of Hassenreuther: Stefan Hunstein\nHerr John\, bricklayer foreman: Oliver Stokowski\nFrau John\, cleaner for Hassenreuther: Johanna Wokalek\nBruno Mechelke\, her brother: Nicholas Ofczarek\nPauline Piperkarcka\, housemaid: Sarah Viktoria Frick\nMrs. Sidonie Knobbe: Andrea Clausen\nSelma\, her daughter: Alina Fritsch\nQuaquaro\, janitor: Branko Samarovski\nMrs. Kielbacke: Elisabeth Augustin\nConstable Schierke: Bernd Birkhahn \n  \nDirection: Andrea Breth\nSet: Martin Zehetgruber\nCostumes: Françoise Clavel\nMusic: Alexander Nefzger\nLighting: Friedrich Rom\nDramaturgy: Klaus Missbach
URL:https://www.kulturprojekte.com/en/event/hauptmann-die-ratten/
LOCATION:Wien\, Burgtheater\, Österreich
END:VEVENT
BEGIN:VEVENT
DTSTART;TZID=Europe/Berlin:20190324T141500
DTEND;TZID=Europe/Berlin:20190324T170000
DTSTAMP:20260424T123936
CREATED:20190226T180738Z
LAST-MODIFIED:20190226T182305Z
UID:887-1553436900-1553446800@www.kulturprojekte.com
SUMMARY:WENNÄKOSKI & SCHUBERT
DESCRIPTION:FRANZ SCHUBERT\nOverture from “ALFONSO AND ESTRELLA” D. 732 \nLOTTA WENNÄKOSKI\nSOIE. Concerto for flute and orchestra \nFRANZ SCHUBERT\nSYMPHONY No. 9 C MAJOR D. 944 “GREAT” \n  \nKersten McCall\, flute\nRoyal Concertgebouw Orchestra\nThomas Hengelbrock
URL:https://www.kulturprojekte.com/en/event/wennaekoski-schubert-4/
LOCATION:Concertgebouw Amsterdam\, Niederlande
END:VEVENT
BEGIN:VEVENT
DTSTART;TZID=Europe/Berlin:20190322T190000
DTEND;TZID=Europe/Berlin:20190322T220000
DTSTAMP:20260424T123936
CREATED:20190226T180512Z
LAST-MODIFIED:20190226T182402Z
UID:886-1553281200-1553292000@www.kulturprojekte.com
SUMMARY:WENNÄKOSKI & SCHUBERT
DESCRIPTION:FRANZ SCHUBERT\nOverture from “ALFONSO AND ESTRELLA” D. 732 \nLOTTA WENNÄKOSKI\nSOIE. Concerto for flute and orchestra \nFRANZ SCHUBERT\nSYMPHONY No. 9 C MAJOR D. 944 “GREAT” \n  \nKersten McCall\, flute\nRoyal Concertgebouw Orchestra\nThomas Hengelbrock
URL:https://www.kulturprojekte.com/en/event/wennaekoski-schubert-3/
LOCATION:Konzerthaus Dortmund\, Deutschland
END:VEVENT
BEGIN:VEVENT
DTSTART;TZID=Europe/Berlin:20190321T201500
DTEND;TZID=Europe/Berlin:20190321T230000
DTSTAMP:20260424T123936
CREATED:20190226T155247Z
LAST-MODIFIED:20190226T182235Z
UID:888-1553199300-1553209200@www.kulturprojekte.com
SUMMARY:WENNÄKOSKI & SCHUBERT
DESCRIPTION:FRANZ SCHUBERT\nOverture from “ALFONSO AND ESTRELLA” D. 732 \nLOTTA WENNÄKOSKI\nSOIE. Concerto for flute and orchestra \nFRANZ SCHUBERT\nSYMPHONY No. 9 C MAJOR D. 944 “GREAT” \n  \nKersten McCall\, flute\nRoyal Concertgebouw Orchestra\nThomas Hengelbrock
URL:https://www.kulturprojekte.com/en/event/wennaekoski-schubert-2/
LOCATION:Concertgebouw Amsterdam\, Niederlande
END:VEVENT
BEGIN:VEVENT
DTSTART;TZID=Europe/Berlin:20190320T201500
DTEND;TZID=Europe/Berlin:20190320T230000
DTSTAMP:20260424T123936
CREATED:20190226T154756Z
LAST-MODIFIED:20190226T182042Z
UID:889-1553112900-1553122800@www.kulturprojekte.com
SUMMARY:WENNÄKOSKI & SCHUBERT
DESCRIPTION:FRANZ SCHUBERT\nOverture from “ALFONSO AND ESTRELLA” D. 732 \nLOTTA WENNÄKOSKI\nSOIE. Concerto for flute and orchestra \nFRANZ SCHUBERT\nSYMPHONY No. 9 C MAJOR D. 944 “GREAT” \n  \nKersten McCall\, flute\nRoyal Concertgebouw Orchestra\nThomas Hengelbrock
URL:https://www.kulturprojekte.com/en/event/wennaekoski-schubert/
LOCATION:Concertgebouw Amsterdam\, Niederlande
END:VEVENT
BEGIN:VEVENT
DTSTART;TZID=Europe/Berlin:20190308T193000
DTEND;TZID=Europe/Berlin:20190308T230000
DTSTAMP:20260424T123936
CREATED:20181114T143533Z
LAST-MODIFIED:20190201T100420Z
UID:819-1552073400-1552086000@www.kulturprojekte.com
SUMMARY:MENDELSSOHN: ELIAS
DESCRIPTION:FELIX MENDELSSOHN\n \nELIAS op. 70\n \n  \nKatharina Konradi\, soprano\nMarie-Sophie Pollak\, soprano\nAgnes Kovacs\, soprano\nWiebke Lehmkuhl\, alto\nSoloist from the boys’ choir of the Dortmund Choir Academy\, alto\nSteve Davislim\, tenor\nMichael Nagy\, baritone\nBalthasar Neumann Choir & -Soloists\nTonhalle Orchestra Zurich\nThomas Hengelbrock
URL:https://www.kulturprojekte.com/en/event/mendelssohn-elias-3/
LOCATION:Zürich\, Tonhalle Maag\, Schweiz
END:VEVENT
BEGIN:VEVENT
DTSTART;TZID=Europe/Berlin:20190307T193000
DTEND;TZID=Europe/Berlin:20190307T230000
DTSTAMP:20260424T123936
CREATED:20181114T143100Z
LAST-MODIFIED:20190201T100344Z
UID:814-1551987000-1551999600@www.kulturprojekte.com
SUMMARY:MENDELSSOHN: ELIAS
DESCRIPTION:FELIX MENDELSSOHN\n \nELIAS op. 70\n \n  \nKatharina Konradi\, soprano\nMarie-Sophie Pollak\, soprano\nAgnes Kovacs\, soprano\nWiebke Lehmkuhl\, alto\nSoloist from the boys’ choir of the Dortmund Choir Academy\, alto\nSteve Davislim\, tenor\nMichael Nagy\, baritone\nBalthasar Neumann Choir & -Soloists\nTonhalle Orchestra Zurich\nThomas Hengelbrock
URL:https://www.kulturprojekte.com/en/event/mendelssohn-elias-2/
LOCATION:Zürich\, Tonhalle Maag\, Schweiz
END:VEVENT
BEGIN:VEVENT
DTSTART;TZID=Europe/Berlin:20190306T193000
DTEND;TZID=Europe/Berlin:20190306T230000
DTSTAMP:20260424T123936
CREATED:20181114T142622Z
LAST-MODIFIED:20190201T100259Z
UID:808-1551900600-1551913200@www.kulturprojekte.com
SUMMARY:MENDELSSOHN: ELIAS
DESCRIPTION:FELIX MENDELSSOHN\n \nELIAS op. 70\n \n  \nKatharina Konradi\, soprano\nMarie-Sophie Pollak\, soprano\nAgnes Kovacs\, soprano\nWiebke Lehmkuhl\, alto\nSoloist from the boys’ choir of the Dortmund Choir Academy\, alto\nSteve Davislim\, tenor\nMichael Nagy\, baritone\nBalthasar Neumann Choir & -Soloists\nTonhalle Orchestra Zurich\nThomas Hengelbrock
URL:https://www.kulturprojekte.com/en/event/mendelssohn-elias/
LOCATION:Zürich\, Tonhalle Maag\, Schweiz
END:VEVENT
BEGIN:VEVENT
DTSTART;TZID=Europe/Berlin:20190203T200000
DTEND;TZID=Europe/Berlin:20190203T230000
DTSTAMP:20260424T123936
CREATED:20181114T134620Z
LAST-MODIFIED:20190201T095245Z
UID:801-1549224000-1549234800@www.kulturprojekte.com
SUMMARY:SCHUBERT & SCHUMANN
DESCRIPTION:FRANZ SCHUBERT\nSTABAT MATER g minor D 175\nSINFONIE NR. 7 b minor D 759 “Unfinished” \nROBERT SCHUMANN\nMISSA SACRA c minor op. 147 \n  \nAgnes Kovacs\, soprano\nMirko Ludwig\, tenor\nRaimonds Spogis\, bass\nBalthasar Neumann Choir & Soloists\nBalthasar Neumann Ensemble\nThomas Hengelbrock
URL:https://www.kulturprojekte.com/en/event/schubert-schumann-3/
LOCATION:Philharmonie Köln\, Deutschland
END:VEVENT
BEGIN:VEVENT
DTSTART;TZID=Europe/Berlin:20190202T200000
DTEND;TZID=Europe/Berlin:20190202T230000
DTSTAMP:20260424T123936
CREATED:20181114T134117Z
LAST-MODIFIED:20190201T095154Z
UID:795-1549137600-1549148400@www.kulturprojekte.com
SUMMARY:SCHUBERT & SCHUMANN
DESCRIPTION:FRANZ SCHUBERT\nSTABAT MATER g minor D 175\nSINFONIE NR. 7 b minor D 759 “Unfinished” \nROBERT SCHUMANN\nMISSA SACRA c minor op. 147 \n  \nAgnes Kovacs\, soprano\nMirko Ludwig\, tenor\nRaimonds Spogis\, bass\nBalthasar Neumann Choir & Soloists\nBalthasar Neumann Ensemble\nThomas Hengelbrock
URL:https://www.kulturprojekte.com/en/event/schubert-schumann-2/
LOCATION:Luxemburg\, Philharmonie\, Luxemburg
END:VEVENT
BEGIN:VEVENT
DTSTART;TZID=Europe/Berlin:20190201T200000
DTEND;TZID=Europe/Berlin:20190201T230000
DTSTAMP:20260424T123936
CREATED:20181114T133459Z
LAST-MODIFIED:20190201T095129Z
UID:790-1549051200-1549062000@www.kulturprojekte.com
SUMMARY:SCHUBERT & SCHUMANN
DESCRIPTION:FRANZ SCHUBERT\nSTABAT MATER g minor D 175\nSINFONIE NR. 7 b minor D 759 “Unfinished” \nROBERT SCHUMANN\nMISSA SACRA c minor op. 147 \n  \nAgnes Kovacs\, soprano\nMirko Ludwig\, tenor\nRaimonds Spogis\, bass\nBalthasar Neumann Choir & Soloists\nBalthasar Neumann Ensemble\nThomas Hengelbrock
URL:https://www.kulturprojekte.com/en/event/schubert-schumann/
LOCATION:Konzerthaus Dortmund\, Deutschland
END:VEVENT
BEGIN:VEVENT
DTSTART;TZID=Europe/Berlin:20190128T200000
DTEND;TZID=Europe/Berlin:20190128T220000
DTSTAMP:20260424T123936
CREATED:20181114T132111Z
LAST-MODIFIED:20181114T132111Z
UID:785-1548705600-1548712800@www.kulturprojekte.com
SUMMARY:MOZART: REQUIEM
DESCRIPTION:JOHANN CASPAR KERLL\nMISSA SUPERBA \nW. A. MOZART\nREQUIEM d minor K. 626 \n  \nKatja Stuber\, soprano\nMarion Eckstein\, alto\nJan Petryka\, tenor\nReinhard Mayr\, bass\nBalthasar Neumann Chor & Soloists\nBalthasar Neumann Ensemble\nThomas Hengelbrock
URL:https://www.kulturprojekte.com/en/event/mozart-requiem-3/
LOCATION:Barcelona\, Palau de la Música Catalana\, Spanien
END:VEVENT
BEGIN:VEVENT
DTSTART;TZID=Europe/Berlin:20190127T190000
DTEND;TZID=Europe/Berlin:20190127T210000
DTSTAMP:20260424T123936
CREATED:20181114T131507Z
LAST-MODIFIED:20181114T131507Z
UID:780-1548615600-1548622800@www.kulturprojekte.com
SUMMARY:MOZART: REQUIEM
DESCRIPTION:JOHANN CASPAR KERLL\nMISSA SUPERBA \nW. A. MOZART\nREQUIEM d minor K. 626 \n  \nKatja Stuber\, soprano\nMarion Eckstein\, alto\nJan Petryka\, tenor\nReinhard Mayr\, bass\nBalthasar Neumann Chor & Soloists\nBalthasar Neumann Ensemble\nThomas Hengelbrock
URL:https://www.kulturprojekte.com/en/event/mozart-requiem-2/
LOCATION:Auditorio Nacional de Música Madrid\, Spanien
END:VEVENT
BEGIN:VEVENT
DTSTART;TZID=Europe/Berlin:20190125T203000
DTEND;TZID=Europe/Berlin:20190125T223000
DTSTAMP:20260424T123936
CREATED:20181114T130940Z
LAST-MODIFIED:20181114T131003Z
UID:775-1548448200-1548455400@www.kulturprojekte.com
SUMMARY:MOZART: REQUIEM
DESCRIPTION:JOHANN CASPAR KERLL\nMISSA SUPERBA \nW. A. MOZART\nREQUIEM d minor K. 626 \n  \nKatja Stuber\, soprano\nMarion Eckstein\, alto\nJan Petryka\, tenor\nReinhard Mayr\, bass\nBalthasar Neumann Choir & Soloists\nBalthasar Neumann Ensemble\nThomas Hengelbrock
URL:https://www.kulturprojekte.com/en/event/mozart-requiem/
LOCATION:Megaron Athen\, Griechenland
END:VEVENT
BEGIN:VEVENT
DTSTART;TZID=Europe/Berlin:20181208T150000
DTEND;TZID=Europe/Berlin:20181208T170000
DTSTAMP:20260424T123936
CREATED:20180711T151707Z
LAST-MODIFIED:20180731T132338Z
UID:450-1544281200-1544288400@www.kulturprojekte.com
SUMMARY:BACH IN TOKIO
DESCRIPTION:JOHANN SEBASTIAN BACH\nSUITE FÜR ORCHESTER Nr. 4 D-Dur BWV 1069\n\nJOHANN SEBASTIAN BACH / ARNOLD SCHÖNBERG\nPRÄLUDIUM UND FUGE Es-Dur BWV 552\nOrchesterbearbeitung: Arnold Schönberg\n\nJOHANN SEBASTIAN BACH\nMAGNIFICAT D-Dur BWV 243\nmit weihnachtlichen Einlagesätzen\n\n\n\n\nBalthasar-Neumann-Chor & -Solisten\nNHK Symphony Orchestra\nThomas Hengelbrock
URL:https://www.kulturprojekte.com/en/event/bach-in-tokio-08-12-2018/
LOCATION:NHK Hall Tokio\, Japan
END:VEVENT
BEGIN:VEVENT
DTSTART;TZID=Europe/Berlin:20181207T190000
DTEND;TZID=Europe/Berlin:20181207T190000
DTSTAMP:20260424T123936
CREATED:20180711T151159Z
LAST-MODIFIED:20180731T132400Z
UID:451-1544209200-1544209200@www.kulturprojekte.com
SUMMARY:BACH IN TOKIO
DESCRIPTION:JOHANN SEBASTIAN BACH\nSUITE FÜR ORCHESTER Nr. 4 D-Dur BWV 1069\n\nJOHANN SEBASTIAN BACH / ARNOLD SCHÖNBERG\nPRÄLUDIUM UND FUGE Es-Dur BWV 552\nOrchesterbearbeitung: Arnold Schönberg\n\nJOHANN SEBASTIAN BACH\nMAGNIFICAT D-Dur BWV 243\nmit weihnachtlichen Einlagesätzen\n\n\n\n\nBalthasar-Neumann-Chor & -Solisten\nNHK Symphony Orchestra\nThomas Hengelbrock
URL:https://www.kulturprojekte.com/en/event/bach-in-tokio-07-12-2018/
LOCATION:NHK Hall Tokio\, Japan
END:VEVENT
BEGIN:VEVENT
DTSTART;TZID=Europe/Berlin:20181201T190000
DTEND;TZID=Europe/Berlin:20181201T190000
DTSTAMP:20260424T123936
CREATED:20180711T150420Z
LAST-MODIFIED:20180731T131652Z
UID:542-1543690800-1543690800@www.kulturprojekte.com
SUMMARY:WEIHNACHTEN MIT KLAUS MARIA BRANDAUER
DESCRIPTION:Werke von JOHANN SEBASTIAN BACH\, FELIX MENDELSSOHN und MAX REGER\nTexte von RAINER MARIA RILKE\, THOMAS STEARNS ELIOT und STEFAN ZWEIG \n  \nKlaus Maria Brandauer\, Rezitation\nBalthasar-Neumann-Chor & -Solisten\nBalthasar-Neumann-Ensemble\nThomas Hengelbrock
URL:https://www.kulturprojekte.com/en/event/weihnachten-mit-klaus-maria-brandauer-01-12-2018/
LOCATION:Philharmonie Essen\, Deutschland
END:VEVENT
END:VCALENDAR