BEGIN:VCALENDAR
VERSION:2.0
PRODID:-//BIK - ECPv6.15.20//NONSGML v1.0//EN
CALSCALE:GREGORIAN
METHOD:PUBLISH
X-WR-CALNAME:BIK
X-ORIGINAL-URL:https://www.kulturprojekte.com/en/
X-WR-CALDESC:Events for BIK
REFRESH-INTERVAL;VALUE=DURATION:PT1H
X-Robots-Tag:noindex
X-PUBLISHED-TTL:PT1H
BEGIN:VTIMEZONE
TZID:Europe/Berlin
BEGIN:DAYLIGHT
TZOFFSETFROM:+0100
TZOFFSETTO:+0200
TZNAME:CEST
DTSTART:20180325T010000
END:DAYLIGHT
BEGIN:STANDARD
TZOFFSETFROM:+0200
TZOFFSETTO:+0100
TZNAME:CET
DTSTART:20181028T010000
END:STANDARD
BEGIN:DAYLIGHT
TZOFFSETFROM:+0100
TZOFFSETTO:+0200
TZNAME:CEST
DTSTART:20190331T010000
END:DAYLIGHT
BEGIN:STANDARD
TZOFFSETFROM:+0200
TZOFFSETTO:+0100
TZNAME:CET
DTSTART:20191027T010000
END:STANDARD
BEGIN:DAYLIGHT
TZOFFSETFROM:+0100
TZOFFSETTO:+0200
TZNAME:CEST
DTSTART:20200329T010000
END:DAYLIGHT
BEGIN:STANDARD
TZOFFSETFROM:+0200
TZOFFSETTO:+0100
TZNAME:CET
DTSTART:20201025T010000
END:STANDARD
END:VTIMEZONE
BEGIN:VEVENT
DTSTART;TZID=Europe/Berlin:20191207T190000
DTEND;TZID=Europe/Berlin:20191207T220000
DTSTAMP:20260424T063828
CREATED:20190604T150355Z
LAST-MODIFIED:20191104T162237Z
UID:1024-1575745200-1575756000@www.kulturprojekte.com
SUMMARY:TCHAIKOVSKY – SAINT-SAËNS
DESCRIPTION:PYOTR I. TCHAIKOVSKY\nADAGIO MOLTO E flat major ČW 326 \nPAVEL CHESNOKOV\nPSALM 74 (Spasenije sodelal) Op. 25\, 5\nANNUNCIATION OF OUR LADY (Sovet prevechnyi) Op. 40\, 2\nHYMN OF THE CHERUBIM (Cheruvimskaya pesn) Op. 27\, 5 \nALEXANDER GLAZUNOV\nTHEME AND VARIATIONS FOR STRING ORCHESTRA g minor \nCAMILLE SAINT-SAËNS\nORATORIO DE NOËL Op. 12 \nAgnes Kovacs\, soprano\nRoxana Constantinescu\, mezzo-soprano\nAnnelie Sophie Müller\, mezzo-soprano\nLinard Vrielink\, tenor\nAndré Morsch\, baritone\nKiril Chobanov\, bass\nBalthasar Neumann Choir\nBalthasar Neumann Ensemble\nThomas Hengelbrock
URL:https://www.kulturprojekte.com/en/event/tchaikovsky-saint-saens-5/
LOCATION:Philharmonie Essen\, Deutschland
END:VEVENT
BEGIN:VEVENT
DTSTART;TZID=Europe/Berlin:20191206T200000
DTEND;TZID=Europe/Berlin:20191206T230000
DTSTAMP:20260424T063828
CREATED:20190704T105338Z
LAST-MODIFIED:20190704T122715Z
UID:1351-1575662400-1575673200@www.kulturprojekte.com
SUMMARY:BEETHOVEN – MENDELSSOHN
DESCRIPTION:LUDWIG VAN BEETHOVEN\nVIOLIN CONCERTO D major Op. 61 \nFELIX MENDELSSOHN\nA MIDSUMMER NIGHT’S DREAM\nOverture Op. 21\nIncidental music Op. 61\n(spoken intermezzi by Franzobel) \n  \nFrank Peter Zimmermann\, violin\nJohanna Wokalek\, recitation\nKatja Stuber\, soprano\nAnne Bierwirth\, alto\nLadies of the La Cetra Vocal Ensemble\nSinfonieorchester Basel\nIvor Bolton
URL:https://www.kulturprojekte.com/en/event/beethoven-mendelssohn-2/
LOCATION:Lörrach\, Burghof\, Schweiz
END:VEVENT
BEGIN:VEVENT
DTSTART;TZID=Europe/Berlin:20191206T200000
DTEND;TZID=Europe/Berlin:20191206T230000
DTSTAMP:20260424T063828
CREATED:20190604T150327Z
LAST-MODIFIED:20191104T162330Z
UID:1022-1575662400-1575673200@www.kulturprojekte.com
SUMMARY:TCHAIKOVSKY – SAINT-SAËNS
DESCRIPTION:PYOTR I. TCHAIKOVSKY\nADAGIO MOLTO E flat major ČW 326 \nPAVEL CHESNOKOV\nPSALM 74 (Spasenije sodelal) Op. 25\, 5\nANNUNCIATION OF OUR LADY (Sovet prevechnyi) Op. 40\, 2\nHYMN OF THE CHERUBIM (Cheruvimskaya pesn) Op. 27\, 5 \nALEXANDER GLAZUNOV\nTHEME AND VARIATIONS FOR STRING ORCHESTRA g minor \nCÉSAR CUI\nMAGNIFICAT (Velichit dusha moya Gospoda) Op. 93 \nCAMILLE SAINT-SAËNS\nORATORIO DE NOËL Op. 12 \nAgnes Kovacs\, soprano\nRoxana Constantinescu\, mezzo-soprano\nAnnelie Sophie Müller\, mezzo-soprano\nLinard Vrielink\, tenor\nAndré Morsch\, baritone\nKiril Chobanov\, bass\nBalthasar Neumann Choir\nBalthasar Neumann Ensemble\nThomas Hengelbrock \nIntroduction to the concert with Thomas Hengelbrock and Friederike Westerhaus at 7 pm
URL:https://www.kulturprojekte.com/en/event/tchaikovsky-saint-saens-4/
LOCATION:Hamburg\, Laeiszhalle\, Deutschland
END:VEVENT
BEGIN:VEVENT
DTSTART;TZID=Europe/Berlin:20191204T200000
DTEND;TZID=Europe/Berlin:20191204T230000
DTSTAMP:20260424T063828
CREATED:20190604T150258Z
LAST-MODIFIED:20191104T162427Z
UID:1019-1575489600-1575500400@www.kulturprojekte.com
SUMMARY:TCHAIKOVSKY – SAINT-SAËNS
DESCRIPTION:PYOTR I. TCHAIKOVSKY\nADAGIO MOLTO E flat major ČW 326 \nPAVEL CHESNOKOV\nPSALM 74 (Spasenije sodelal) Op. 25\, 5\nANNUNCIATION OF OUR LADY (Sovet prevechnyi) Op. 40\, 2\nHYMN OF THE CHERUBIM (Cheruvimskaya pesn) Op. 27\, 5 \nALEXANDER GLAZUNOV\nTHEME AND VARIATIONS FOR STRING ORCHESTRA g minor \nCÉSAR CUI\nMAGNIFICAT (Velichit dusha moya Gospoda) Op. 93 \nCAMILLE SAINT-SAËNS\nORATORIO DE NOËL Op. 12 \nAgnes Kovacs\, soprano\nRoxana Constantinescu\, mezzo-soprano\nAnnelie Sophie Müller\, mezzo-soprano\nLinard Vrielink\, tenor\nAndré Morsch\, baritone\nKiril Chobanov\, bass\nBalthasar Neumann Choir\nBalthasar Neumann Ensemble\nThomas Hengelbrock
URL:https://www.kulturprojekte.com/en/event/tchaikovsky-saint-saens-3/
LOCATION:Luxemburg\, Philharmonie\, Luxemburg
END:VEVENT
BEGIN:VEVENT
DTSTART;TZID=Europe/Berlin:20191204T193000
DTEND;TZID=Europe/Berlin:20191204T223000
DTSTAMP:20260424T063828
CREATED:20190704T103824Z
LAST-MODIFIED:20190704T105510Z
UID:1343-1575487800-1575498600@www.kulturprojekte.com
SUMMARY:BEETHOVEN – MENDELSSOHN
DESCRIPTION:LUDWIG VAN BEETHOVEN\nVIOLIN CONCERTO D major Op. 61 \nFELIX MENDELSSOHN\nA MIDSUMMER NIGHT’S DREAM\nOverture Op. 21\nIncidental music Op. 61\n(spoken intermezzi by Franzobel) \n  \nFrank Peter Zimmermann\, violin\nJohanna Wokalek\, recitation\nKatja Stuber\, soprano\nAnne Bierwirth\, alto\nLadies of the La Cetra Vocal Ensemble\nSinfonieorchester Basel\nIvor Bolton
URL:https://www.kulturprojekte.com/en/event/beethoven-mendelssohn/
LOCATION:Basel\, Theater\, Schweiz
END:VEVENT
BEGIN:VEVENT
DTSTART;TZID=Europe/Berlin:20191203T193000
DTEND;TZID=Europe/Berlin:20191203T230000
DTSTAMP:20260424T063828
CREATED:20190604T150229Z
LAST-MODIFIED:20191112T111854Z
UID:1016-1575401400-1575414000@www.kulturprojekte.com
SUMMARY:TCHAIKOVSKY – SAINT-SAËNS
DESCRIPTION:PYOTR I. TCHAIKOVSKY\nADAGIO MOLTO E flat major ČW 326 \nPAVEL CHESNOKOV\nPSALM 74 (Spasenije sodelal) Op. 25\, 5\nANNUNCIATION OF OUR LADY (Sovet prevechnyi) Op. 40\, 2\nHYMN OF THE CHERUBIM (Cheruvimskaya pesn) Op. 27\, 5 \nALEXANDER GLAZUNOV\nTHEME AND VARIATIONS FOR STRING ORCHESTRA g minor \nCÉSAR CUI\nMAGNIFICAT (Velichit dusha moya Gospoda) Op. 93 \nCAMILLE SAINT-SAËNS\nORATORIO DE NOËL Op. 12 \nAgnes Kovacs\, soprano\nRoxana Constantinescu\, mezzo-soprano\nAnnelie Sophie Müller\, mezzo-soprano\nLinard Vrielink\, tenor\nAndré Morsch\, baritone\nKiril Chobanov\, bass\nBalthasar Neumann Choir\nBalthasar Neumann Ensemble\nThomas Hengelbrock
URL:https://www.kulturprojekte.com/en/event/tchaikovsky-saint-saens-2/
LOCATION:Wien\, Konzerthaus\, Österreich
END:VEVENT
BEGIN:VEVENT
DTSTART;TZID=Europe/Berlin:20191202T190000
DTEND;TZID=Europe/Berlin:20191202T220000
DTSTAMP:20260424T063828
CREATED:20190812T161604Z
LAST-MODIFIED:20190910T064934Z
UID:1550-1575313200-1575324000@www.kulturprojekte.com
SUMMARY:CROSS-BORDER MUSIC EDUCATION
DESCRIPTION:CAMILLE DE SAINT-SAËNS\nORATORIO DE NOËL Op. 12 \nCHRISTMAS CAROLS\nfrom Germany and France \nAgnes Kovacs\, soprano\nRoxana Constantinescu\, mezzo-soprano\nAnnelie Sophie Müller\, mezzo-soprano\nLinard Vrielink\, tenor\nAndré Morsch\, baritone \nOberstufenchor des deutsch-französischen Gymnasiums Freiburg\nSchulchor des Markgräfler Gymnasiums Müllheim\nJugendchor des Straßburger Konservatoriums\nBalthasar Neumann Ensemble\nThomas Hengelbrock \nA German-French education project by the Akademie Balthasar Neumann. \n  \n70 years of Europe – et alors?\nMore than ever it is necessary to get to know our European neighbours – culturally\, linguistically and as fellow human beings both through direct contact and through the intermediary of music. Oratorio de Noël is a music education project in which we shall once again cross Europe’s internal borders and look beyond our immediate cultural confines: choirs from German and French schools will explore the other country’s Christmas traditions and songs. Together they will travel to the border town of Breisach and with the support of members of the Balthasar Neumann Choir they will study works associated with Christmas. The general public will also be admitted. The final concert in Badenweiler on 2 December 2019 will feature Thomas Hengelbrock\, the Balthasar Neumann Ensemble and around one hundred young singers\, both male and female. \nThe project will be realized with the help of the Baden-Württemberg Foundation.
URL:https://www.kulturprojekte.com/en/event/musikvermittlung-ueber-grenzen/
LOCATION:Badenweiler\, Pauluskirche\, Deutschland
END:VEVENT
BEGIN:VEVENT
DTSTART;TZID=Europe/Berlin:20191201T180000
DTEND;TZID=Europe/Berlin:20191201T210000
DTSTAMP:20260424T063828
CREATED:20190604T150155Z
LAST-MODIFIED:20191104T162624Z
UID:1006-1575223200-1575234000@www.kulturprojekte.com
SUMMARY:TCHAIKOVSKY – SAINT-SAËNS
DESCRIPTION:PYOTR I. TCHAIKOVSKY\nADAGIO MOLTO E flat major ČW 326 \nPAVEL CHESNOKOV\nPSALM 74 (Spasenije sodelal) Op. 25\, 5\nANNUNCIATION OF OUR LADY (Sovet prevechnyi) Op. 40\, 2\nHYMN OF THE CHERUBIM (Cheruvimskaya pesn) Op. 27\, 5 \nALEXANDER GLAZUNOV\nTHEME AND VARIATIONS FOR STRING ORCHESTRA g minor \nCÉSAR CUI\nMAGNIFICAT (Velichit dusha moya Gospoda) Op. 93 \nCAMILLE SAINT-SAËNS\nORATORIO DE NOËL Op. 12 \nAgnes Kovacs\, soprano\nRoxana Constantinescu\, mezzo-soprano\nAnnelie Sophie Müller\, mezzo-soprano\nLinard Vrielink\, tenor\nAndré Morsch\, baritone\nKiril Chobanov\, bass\nBalthasar Neumann Choir\nBalthasar Neumann Ensemble\nThomas Hengelbrock
URL:https://www.kulturprojekte.com/en/event/tchaikovsky-saint-saens/
LOCATION:Konzerthaus Freiburg\, Deutschland
END:VEVENT
BEGIN:VEVENT
DTSTART;TZID=Europe/Berlin:20191121T200000
DTEND;TZID=Europe/Berlin:20191121T230000
DTSTAMP:20260424T063828
CREATED:20191024T072221Z
LAST-MODIFIED:20191024T072731Z
UID:1648-1574366400-1574377200@www.kulturprojekte.com
SUMMARY:WEBER – MENDELSSOHN – SCHUMANN
DESCRIPTION:CARL MARIA VON WEBER\nOVERTURE FROM “DER FREISCHÜTZ” \nFELIX MENDELSSOHN\nPIANO CONCERTO No. 2 d minor Op. 40 \nROBERT SCHUMANN\nSYMPHONY NO. 1 B flat major Op. 38 “Spring Symphony” \n  \nJan Lisiecki\, piano\nOrchestre National de France\nThomas Hengelbrock
URL:https://www.kulturprojekte.com/en/event/weber-mendelssohn-schumann/
LOCATION:Paris\, Maison de la Radio\, Frankreich
END:VEVENT
BEGIN:VEVENT
DTSTART;TZID=Europe/Berlin:20191102T203000
DTEND;TZID=Europe/Berlin:20191102T233000
DTSTAMP:20260424T063828
CREATED:20190604T150025Z
LAST-MODIFIED:20191024T071337Z
UID:1315-1572726600-1572737400@www.kulturprojekte.com
SUMMARY:MOZART FESTIVAL HAVANA
DESCRIPTION:CARLOS FARIÑAS\nNOCTURNO DE ENERO \nROBERT SCHUMANN\nSYMPHONY NO. 1 B flat major Op. 38 “Spring Symphony” \nWOLFGANG AMADEUS MOZART\nMISSA IN C K. 317 “Coronation Mass” \n  \nKatja Stuber\, Soprano\nMaria Lucía Méndez Verde\, Alto\nRoger Quintana\, Tenor\nAndré Morsch\, Baritone\nSchola Cantorum Coralina\nCoro Exaudi\nCoro de Cámara del ISA\nHavana Lyceum Orchestra\nThomas Hengelbrock\n \nIn cooperation with the Goethe-Institut and the Goethe-Institut’s Liaison Office in Havana.
URL:https://www.kulturprojekte.com/en/event/mozart-festival-havana/
LOCATION:Havana\, Catedral de San Cristobál\, Kuba
END:VEVENT
BEGIN:VEVENT
DTSTART;TZID=Europe/Berlin:20191024T193000
DTEND;TZID=Europe/Berlin:20191024T223000
DTSTAMP:20260424T063828
CREATED:20190604T145949Z
LAST-MODIFIED:20190604T145949Z
UID:1223-1571945400-1571956200@www.kulturprojekte.com
SUMMARY:FAURÉ – SHOSTAKOVICH – BEETHOVEN
DESCRIPTION:GABRIEL FAURÉ\nCALIGULA Op. 52 \nDMITRI SHOSTAKOVICH\nCONCERTO FOR PIANO AND ORCHESTRA No. 1 c minor Op. 35 \nLUDWIG VAN BEETHOVEN\nDIE GESCHÖPFE DES PROMETHEUS Op. 43 (excerpts) \n  \nAlexander Melnikov\, Piano\nImmanuel Richter\, Trumpet\nPeter Simonischek\, Speaker\nLadies of the Balthasar Neumann Choir\nSinfonieorchester Basel\nIvor Bolton
URL:https://www.kulturprojekte.com/en/event/faure-shostakovich-beethoven-2/
LOCATION:Basel\, Theater\, Schweiz
END:VEVENT
BEGIN:VEVENT
DTSTART;TZID=Europe/Berlin:20191023T193000
DTEND;TZID=Europe/Berlin:20191023T223000
DTSTAMP:20260424T063828
CREATED:20190604T145919Z
LAST-MODIFIED:20190604T145919Z
UID:1282-1571859000-1571869800@www.kulturprojekte.com
SUMMARY:FAURÉ –SHOSTAKOVICH – BEETHOVEN
DESCRIPTION:GABRIEL FAURÉ\nCALIGULA Op. 52 \nDMITRI SHOSTAKOVICH\nCONCERTO FOR PIANO AND ORCHESTRA No. 1 c minor Op. 35 \nLUDWIG VAN BEETHOVEN\nDIE GESCHÖPFE DES PROMETHEUS Op. 43 (excerpts) \n  \nAlexander Melnikov\, Piano\nImmanuel Richter\, Trumpet\nPeter Simonischek\, Speaker\nLadies of the Balthasar Neumann Choir\nSinfonieorchester Basel\nIvor Bolton
URL:https://www.kulturprojekte.com/en/event/faure-shostakovich-beethoven/
LOCATION:Basel\, Theater\, Schweiz
END:VEVENT
BEGIN:VEVENT
DTSTART;TZID=Europe/Berlin:20191020T141500
DTEND;TZID=Europe/Berlin:20191020T162000
DTSTAMP:20260424T063828
CREATED:20190926T104301Z
LAST-MODIFIED:20190926T104420Z
UID:1626-1571580900-1571588400@www.kulturprojekte.com
SUMMARY:PURCELL – HÄNDEL – HAYDN
DESCRIPTION:HENRY PURCELL\nSUITE FROM “KING ARTHUR” \nGEORG FRIEDRICH HÄNDEL\nARMIDA E RINALDO\nPasticcio (Compilation: Thomas Hengelbrock) \nJOSEPH HAYDN\nSYMPHONY c minor Hob. I:52 \n  \nNadine Koutcher\, soprano\nJonathan Abernethy\, tenor\nRoyal Concertgebouw Orchestra\nThomas Hengelbrock
URL:https://www.kulturprojekte.com/en/event/purcell-haendel-haydn-3/
LOCATION:Concertgebouw Amsterdam\, Niederlande
END:VEVENT
BEGIN:VEVENT
DTSTART;TZID=Europe/Berlin:20191018T201500
DTEND;TZID=Europe/Berlin:20191018T222000
DTSTAMP:20260424T063828
CREATED:20190926T104105Z
LAST-MODIFIED:20190926T104517Z
UID:1623-1571429700-1571437200@www.kulturprojekte.com
SUMMARY:PURCELL – HÄNDEL – HAYDN
DESCRIPTION:HENRY PURCELL\nSUITE FROM “KING ARTHUR” \nGEORG FRIEDRICH HÄNDEL\nARMIDA E RINALDO\nPasticcio (Compilation: Thomas Hengelbrock) \nJOSEPH HAYDN\nSYMPHONY c minor Hob. I:52 \n  \nNadine Koutcher\, soprano\nJonathan Abernethy\, tenor\nRoyal Concertgebouw Orchestra\nThomas Hengelbrock
URL:https://www.kulturprojekte.com/en/event/purcell-haendel-haydn-2/
LOCATION:Concertgebouw Amsterdam\, Niederlande
END:VEVENT
BEGIN:VEVENT
DTSTART;TZID=Europe/Berlin:20191018T200000
DTEND;TZID=Europe/Berlin:20191018T230000
DTSTAMP:20260424T063828
CREATED:20190604T145848Z
LAST-MODIFIED:20190902T132957Z
UID:1221-1571428800-1571439600@www.kulturprojekte.com
SUMMARY:BACH – MENDELSSOHN
DESCRIPTION:FELIX MENDELSSOHN\nWER NUR DEN LIEBEN GOTT LÄSST WALTEN MWV A7 \nJOHANN SEBASTIAN BACH\nNACH DIR\, HERR\, VERLANGET MICH BWV 150 \nFELIX MENDELSSOHN\nMITTEN WIR IM LEBEN SIND Op. 23\,3 \nJOHANN SEBASTIAN BACH\nKOMM\, JESU\, KOMM BWV 229 \nFELIX MENDELSSOHN\nJESU\, MEINE FREUDE MWV A6 \nJOHANN SEBASTIAN BACH\nDER HERR DENKET AN UNS BWV 196 \n\nBalthasar Neumann Choir & Soloists\nBalthasar Neumann Ensemble\nHoward Arman
URL:https://www.kulturprojekte.com/en/event/bach-mendelssohn/
LOCATION:Freiburg\, Christuskirche\, Deutschland
END:VEVENT
BEGIN:VEVENT
DTSTART;TZID=Europe/Berlin:20191017T201500
DTEND;TZID=Europe/Berlin:20191017T222000
DTSTAMP:20260424T063828
CREATED:20190925T152518Z
LAST-MODIFIED:20190926T104608Z
UID:1620-1571343300-1571350800@www.kulturprojekte.com
SUMMARY:PURCELL – HÄNDEL – HAYDN
DESCRIPTION:HENRY PURCELL\nSUITE FROM “KING ARTHUR” \nGEORG FRIEDRICH HÄNDEL\nARMIDA E RINALDO\nPasticcio (Compilation: Thomas Hengelbrock) \nJOSEPH HAYDN\nSYMPHONY c minor Hob. I:52 \n  \nNadine Koutcher\, soprano\nJonathan Abernethy\, tenor\nRoyal Concertgebouw Orchestra\nThomas Hengelbrock
URL:https://www.kulturprojekte.com/en/event/purcell-haendel-haydn/
LOCATION:Concertgebouw Amsterdam\, Niederlande
END:VEVENT
BEGIN:VEVENT
DTSTART;TZID=Europe/Berlin:20191005T193000
DTEND;TZID=Europe/Berlin:20191005T223000
DTSTAMP:20260424T063828
CREATED:20190925T145611Z
LAST-MODIFIED:20190925T150013Z
UID:1611-1570303800-1570314600@www.kulturprojekte.com
SUMMARY:MOZART – MENDELSSOHN
DESCRIPTION:WOLFGANG AMADEUS MOZART\nSYMPHONY No. 41 C major K. 551 “Jupiter” \nFELIX MENDELSSOHN\nSYMPHONY No. 2 B flat major Op. 52 “Hymn of Praise” \n  \nChristina Landshamer\, soprano\nAgnes Kovacs\, soprano\nAndrew Staples\, tenor\nPhilharmonic Choir Munich\nMunich Philharmonic\nThomas Hengelbrock
URL:https://www.kulturprojekte.com/en/event/mozart-mendelssohn-4/
LOCATION:Bratislava\, Concert Hall\, Slowakei
END:VEVENT
BEGIN:VEVENT
DTSTART;TZID=Europe/Berlin:20191004T200000
DTEND;TZID=Europe/Berlin:20191004T230000
DTSTAMP:20260424T063828
CREATED:20190925T144919Z
LAST-MODIFIED:20190925T150140Z
UID:1607-1570219200-1570230000@www.kulturprojekte.com
SUMMARY:MOZART – MENDELSSOHN
DESCRIPTION:WOLFGANG AMADEUS MOZART\nSYMPHONY No. 41 C major K. 551 “Jupiter” \nFELIX MENDELSSOHN\nSYMPHONY No. 2 B flat major Op. 52 “Hymn of Praise” \n  \nChristina Landshamer\, soprano\nAgnes Kovacs\, soprano\nAndrew Staples\, tenor\nPhilharmonic Choir Munich\nMunich Philharmonic\nThomas Hengelbrock
URL:https://www.kulturprojekte.com/en/event/mozart-mendelssohn-3/
LOCATION:München\, Philharmonie im Gasteig\, Deutschland
END:VEVENT
BEGIN:VEVENT
DTSTART;TZID=Europe/Berlin:20191003T190000
DTEND;TZID=Europe/Berlin:20191003T220000
DTSTAMP:20260424T063828
CREATED:20190925T144714Z
LAST-MODIFIED:20190925T150338Z
UID:1604-1570129200-1570140000@www.kulturprojekte.com
SUMMARY:MOZART – MENDELSSOHN
DESCRIPTION:WOLFGANG AMADEUS MOZART\nSYMPHONY No. 41 C major K. 551 “Jupiter” \nFELIX MENDELSSOHN\nSYMPHONY No. 2 B flat major Op. 52 “Hymn of Praise” \n  \nChristina Landshamer\, soprano\nAgnes Kovacs\, soprano\nAndrew Staples\, tenor\nPhilharmonic Choir Munich\nMunich Philharmonic\nThomas Hengelbrock
URL:https://www.kulturprojekte.com/en/event/mozart-mendelssohn-2/
LOCATION:München\, Philharmonie im Gasteig\, Deutschland
END:VEVENT
BEGIN:VEVENT
DTSTART;TZID=Europe/Berlin:20191002T180000
DTEND;TZID=Europe/Berlin:20191002T210000
DTSTAMP:20260424T063828
CREATED:20190925T144138Z
LAST-MODIFIED:20190925T150657Z
UID:1601-1570039200-1570050000@www.kulturprojekte.com
SUMMARY:MOZART – MENDELSSOHN
DESCRIPTION:public dress rehearsal\n \nWOLFGANG AMADEUS MOZART\nSYMPHONY No. 41 C major K. 551 “Jupiter” \nFELIX MENDELSSOHN\nSYMPHONY No. 2 B flat major Op. 52 “Hymn of Praise” \n  \nChristina Landshamer\, soprano\nAgnes Kovacs\, soprano\nAndrew Staples\, tenor\nPhilharmonic Choir Munich\nMunich Philharmonic\nThomas Hengelbrock \n 
URL:https://www.kulturprojekte.com/en/event/mozart-mendelssohn/
LOCATION:München\, Philharmonie im Gasteig\, Deutschland
END:VEVENT
BEGIN:VEVENT
DTSTART;TZID=Europe/Berlin:20190929T190000
DTEND;TZID=Europe/Berlin:20190929T220000
DTSTAMP:20260424T063828
CREATED:20190604T145814Z
LAST-MODIFIED:20190604T145814Z
UID:984-1569783600-1569794400@www.kulturprojekte.com
SUMMARY:HÄNDEL – BACH
DESCRIPTION:GEORG FRIEDRICH HÄNDEL\nDIXIT DOMINUS HWV 232 \nJOHANN SEBASTIAN BACH\nGOTT SOLL ALLEIN MEIN HERZE HABEN BWV 169\nJESU\, MEINE FREUDE BWV 227 \n  \nReginald Mobley\, countertenor\nAlex Potter\, countertenor\nBalthasar Neumann Choir & Soloists\nBalthasar Neumann Ensemble\nThomas Hengelbrock
URL:https://www.kulturprojekte.com/en/event/haendel-bach-5/
LOCATION:Neumarkt\, Reitstadel\, Deutschland
END:VEVENT
BEGIN:VEVENT
DTSTART;TZID=Europe/Berlin:20190928T200000
DTEND;TZID=Europe/Berlin:20190928T230000
DTSTAMP:20260424T063828
CREATED:20190604T145644Z
LAST-MODIFIED:20190604T145644Z
UID:982-1569700800-1569711600@www.kulturprojekte.com
SUMMARY:HÄNDEL – BACH
DESCRIPTION:GEORG FRIEDRICH HÄNDEL\nDIXIT DOMINUS HWV 232 \nJOHANN SEBASTIAN BACH\nGOTT SOLL ALLEIN MEIN HERZE HABEN BWV 169\nJESU\, MEINE FREUDE BWV 227 \n  \nReginald Mobley\, countertenor\nAlex Potter\, countertenor\nBalthasar Neumann Choir & Soloists\nBalthasar Neumann Ensemble\nThomas Hengelbrock
URL:https://www.kulturprojekte.com/en/event/haendel-bach-4/
LOCATION:Bremen\, Glocke\, Deutschland
END:VEVENT
BEGIN:VEVENT
DTSTART;TZID=Europe/Berlin:20190927T200000
DTEND;TZID=Europe/Berlin:20190927T230000
DTSTAMP:20260424T063828
CREATED:20190604T145559Z
LAST-MODIFIED:20190604T145559Z
UID:980-1569614400-1569625200@www.kulturprojekte.com
SUMMARY:HÄNDEL – BACH
DESCRIPTION:GEORG FRIEDRICH HÄNDEL\nDIXIT DOMINUS HWV 232 \nJOHANN SEBASTIAN BACH\nGOTT SOLL ALLEIN MEIN HERZE HABEN BWV 169\nJESU\, MEINE FREUDE BWV 227 \n  \nReginald Mobley\, countertenor\nAlex Potter\, countertenor\nBalthasar Neumann Choir & Soloists\nBalthasar Neumann Ensemble\nThomas Hengelbrock \nIntroduction to the concert with Thomas Hengelbrock and Friederike Westerhaus at 7 pm
URL:https://www.kulturprojekte.com/en/event/haendel-bach-3/
LOCATION:Hamburg\, Laeiszhalle\, Deutschland
END:VEVENT
BEGIN:VEVENT
DTSTART;TZID=Europe/Berlin:20190926T200000
DTEND;TZID=Europe/Berlin:20190926T230000
DTSTAMP:20260424T063828
CREATED:20190604T145525Z
LAST-MODIFIED:20190604T145525Z
UID:978-1569528000-1569538800@www.kulturprojekte.com
SUMMARY:HÄNDEL – BACH
DESCRIPTION:GEORG FRIEDRICH HÄNDEL\nDIXIT DOMINUS HWV 232 \nJOHANN SEBASTIAN BACH\nGOTT SOLL ALLEIN MEIN HERZE HABEN BWV 169\nJESU\, MEINE FREUDE BWV 227 \n  \nReginald Mobley\, countertenor\nAlex Potter\, countertenor\nBalthasar Neumann Choir & Soloists\nBalthasar Neumann Ensemble\nThomas Hengelbrock
URL:https://www.kulturprojekte.com/en/event/haendel-bach-2/
LOCATION:Groningen\, De Oosterpoort\, Niederlande
END:VEVENT
BEGIN:VEVENT
DTSTART;TZID=Europe/Berlin:20190925T200000
DTEND;TZID=Europe/Berlin:20190925T230000
DTSTAMP:20260424T063828
CREATED:20190604T145453Z
LAST-MODIFIED:20190604T145453Z
UID:965-1569441600-1569452400@www.kulturprojekte.com
SUMMARY:HÄNDEL – BACH
DESCRIPTION:GEORG FRIEDRICH HÄNDEL\nDIXIT DOMINUS HWV 232 \nJOHANN SEBASTIAN BACH\nGOTT SOLL ALLEIN MEIN HERZE HABEN BWV 169\nJESU\, MEINE FREUDE BWV 227 \n  \nReginald Mobley\, countertenor\nAlex Potter\, countertenor\nBalthasar Neumann Choir & Soloists\nBalthasar Neumann Ensemble\nThomas Hengelbrock
URL:https://www.kulturprojekte.com/en/event/haendel-bach/
LOCATION:Antwerpen\, deSingel\, Belgien
END:VEVENT
BEGIN:VEVENT
DTSTART;TZID=Europe/Berlin:20190819T190000
DTEND;TZID=Europe/Berlin:20190819T220000
DTSTAMP:20260424T063828
CREATED:20190710T073106Z
LAST-MODIFIED:20190710T073331Z
UID:1438-1566241200-1566252000@www.kulturprojekte.com
SUMMARY:CHERUBINI: MÉDÉE
DESCRIPTION:LUIGI CHERUBINI\nMÉDÉE \nThomas Hengelbrock\, direction\nSimon Stone\, staging\nBob Cousins\, set\nMel Page\, costumes\nNick Schlieper\, lighting\nChristian Arseni\, dramaturgy\n \nElena Stikhina\, Médée\nPavel Černoch\, Jason\nVitalij Kowaljow\, Créon\nRosa Feola\, Dircé\nAlisa Kolosova\, Néris\n\nConcert Association of the Vienna State Opera Chorus\nVienna Philharmonic
URL:https://www.kulturprojekte.com/en/event/cherubini-medee-6/
LOCATION:Salzburg\, Großes Festspielhaus\, Österreich
END:VEVENT
BEGIN:VEVENT
DTSTART;TZID=Europe/Berlin:20190816T190000
DTEND;TZID=Europe/Berlin:20190816T220000
DTSTAMP:20260424T063828
CREATED:20190710T072906Z
LAST-MODIFIED:20190710T073531Z
UID:1435-1565982000-1565992800@www.kulturprojekte.com
SUMMARY:CHERUBINI: MÉDÉE
DESCRIPTION:LUIGI CHERUBINI\nMÉDÉE \nThomas Hengelbrock\, direction\nSimon Stone\, staging\nBob Cousins\, set\nMel Page\, costumes\nNick Schlieper\, lighting\nChristian Arseni\, dramaturgy\n \nElena Stikhina\, Médée\nPavel Černoch\, Jason\nVitalij Kowaljow\, Créon\nRosa Feola\, Dircé\nAlisa Kolosova\, Néris\n\nConcert Association of the Vienna State Opera Chorus\nVienna Philharmonic
URL:https://www.kulturprojekte.com/en/event/cherubini-medee-5/
LOCATION:Salzburg\, Großes Festspielhaus\, Österreich
END:VEVENT
BEGIN:VEVENT
DTSTART;TZID=Europe/Berlin:20190811T200000
DTEND;TZID=Europe/Berlin:20190811T230000
DTSTAMP:20260424T063828
CREATED:20190710T080040Z
LAST-MODIFIED:20190710T081017Z
UID:1458-1565553600-1565564400@www.kulturprojekte.com
SUMMARY:BEETHOVEN – MENDELSSOHN – WAGNER – MOZART
DESCRIPTION:LUDWIG VAN BEETHOVEN\n“CORIOLAN” overture Op. 62 \nFELIX MENDELSSOHN\nCONCERTO FOR VIOLIN AND ORCHESTRA E minor Op. 64 \nRICHARD WAGNER\nSIEGFRIED IDYLL E major WWV 103 \nWOLFGANG AMADEUS MOZART\nSYMPHONY No. 35 D major K. 385 “Haffner” \nVolkhard Steude\, violin\nAttergau Institute Orchestra\nThomas Hengelbrock
URL:https://www.kulturprojekte.com/en/event/beethoven-mendelssohn-wagner-mozart/
LOCATION:Pfarrkirche St. Georgen\, Österreich
END:VEVENT
BEGIN:VEVENT
DTSTART;TZID=Europe/Berlin:20190810T200000
DTEND;TZID=Europe/Berlin:20190810T230000
DTSTAMP:20260424T063828
CREATED:20190710T072648Z
LAST-MODIFIED:20190710T073804Z
UID:1432-1565467200-1565478000@www.kulturprojekte.com
SUMMARY:CHERUBINI: MÉDÉE
DESCRIPTION:LUIGI CHERUBINI\nMÉDÉE \nThomas Hengelbrock\, direction\nSimon Stone\, staging\nBob Cousins\, set\nMel Page\, costumes\nNick Schlieper\, lighting\nChristian Arseni\, dramaturgy\n \nElena Stikhina\, Médée\nPavel Černoch\, Jason\nVitalij Kowaljow\, Créon\nRosa Feola\, Dircé\nAlisa Kolosova\, Néris\n\nConcert Association of the Vienna State Opera Chorus\nVienna Philharmonic
URL:https://www.kulturprojekte.com/en/event/cherubini-medee-4/
LOCATION:Salzburg\, Großes Festspielhaus\, Österreich
END:VEVENT
BEGIN:VEVENT
DTSTART;TZID=Europe/Berlin:20190808T200000
DTEND;TZID=Europe/Berlin:20190808T230000
DTSTAMP:20260424T063828
CREATED:20190710T075550Z
LAST-MODIFIED:20190710T075550Z
UID:1446-1565294400-1565305200@www.kulturprojekte.com
SUMMARY:BEETHOVEN – MENDELSSOHN – MOZART
DESCRIPTION:LUDWIG VAN BEETHOVEN\n“CORIOLAN” overture Op. 62 \nFELIX MENDELSSOHN\nCONCERTO FOR VIOLIN AND ORCHESTRA E minor Op. 64 \nWOLFGANG AMADEUS MOZART\nSYMPHONY No. 35 D major K. 385 “Haffner” \nVolkhard Steude\, violin\nAttergau Institute Orchestra\nThomas Hengelbrock
URL:https://www.kulturprojekte.com/en/event/beethoven-mendelssohn-mozart/
LOCATION:Wallfahrtskirche St. Leonhard ob Tamsweg\, Österreich
END:VEVENT
END:VCALENDAR