BEGIN:VCALENDAR
VERSION:2.0
PRODID:-//BIK - ECPv6.15.20//NONSGML v1.0//EN
CALSCALE:GREGORIAN
METHOD:PUBLISH
X-WR-CALNAME:BIK
X-ORIGINAL-URL:https://www.kulturprojekte.com/en/
X-WR-CALDESC:Events for BIK
REFRESH-INTERVAL;VALUE=DURATION:PT1H
X-Robots-Tag:noindex
X-PUBLISHED-TTL:PT1H
BEGIN:VTIMEZONE
TZID:Europe/Berlin
BEGIN:DAYLIGHT
TZOFFSETFROM:+0100
TZOFFSETTO:+0200
TZNAME:CEST
DTSTART:20180325T010000
END:DAYLIGHT
BEGIN:STANDARD
TZOFFSETFROM:+0200
TZOFFSETTO:+0100
TZNAME:CET
DTSTART:20181028T010000
END:STANDARD
BEGIN:DAYLIGHT
TZOFFSETFROM:+0100
TZOFFSETTO:+0200
TZNAME:CEST
DTSTART:20190331T010000
END:DAYLIGHT
BEGIN:STANDARD
TZOFFSETFROM:+0200
TZOFFSETTO:+0100
TZNAME:CET
DTSTART:20191027T010000
END:STANDARD
BEGIN:DAYLIGHT
TZOFFSETFROM:+0100
TZOFFSETTO:+0200
TZNAME:CEST
DTSTART:20200329T010000
END:DAYLIGHT
BEGIN:STANDARD
TZOFFSETFROM:+0200
TZOFFSETTO:+0100
TZNAME:CET
DTSTART:20201025T010000
END:STANDARD
BEGIN:DAYLIGHT
TZOFFSETFROM:+0100
TZOFFSETTO:+0200
TZNAME:CEST
DTSTART:20210328T010000
END:DAYLIGHT
BEGIN:STANDARD
TZOFFSETFROM:+0200
TZOFFSETTO:+0100
TZNAME:CET
DTSTART:20211031T010000
END:STANDARD
END:VTIMEZONE
BEGIN:VEVENT
DTSTART;TZID=Europe/Berlin:20200420T200000
DTEND;TZID=Europe/Berlin:20200420T230000
DTSTAMP:20260424T021546
CREATED:20190604T151152Z
LAST-MODIFIED:20200325T082255Z
UID:1084-1587412800-1587423600@www.kulturprojekte.com
SUMMARY:LISZT – BRUCKNER // CANCELLED
DESCRIPTION:FRANZ LISZT\nVIA CRUCIS (for choir and organ) \nANTON BRUCKNER\nOS JUSTI WAB 30\nPOSTLUDE D MINOR WAB 126 \nMAX REGER\nO TOD\, WIE BITTER BIST DU Op. 110\,3\nOSTERN Op. 145\,5 \nALBERT BECKER\nICH BIN DIE AUFERSTEHUNG Op. 67\,2 \n  \nOlivier Latry\, organ\nBalthasar Neumann Choir & Soloists\nThomas Hengelbrock
URL:https://www.kulturprojekte.com/en/event/liszt-bruckner-3/
LOCATION:Mülheim\, Petrikirche\, Deutschland
END:VEVENT
BEGIN:VEVENT
DTSTART;TZID=Europe/Berlin:20200419T200000
DTEND;TZID=Europe/Berlin:20200419T230000
DTSTAMP:20260424T021546
CREATED:20190604T151121Z
LAST-MODIFIED:20200325T082312Z
UID:1082-1587326400-1587337200@www.kulturprojekte.com
SUMMARY:LISZT – BRUCKNER // CANCELLED
DESCRIPTION:FRANZ LISZT\nVIA CRUCIS (for choir and organ) \nANTON BRUCKNER\nOS JUSTI WAB 30\nPOSTLUDE D MINOR WAB 126 \nMAX REGER\nO TOD\, WIE BITTER BIST DU Op. 110\,3\nOSTERN Op. 145\,5 \nALBERT BECKER\nICH BIN DIE AUFERSTEHUNG Op. 67\,2 \n  \nOlivier Latry\, organ\nBalthasar Neumann Choir & Soloists\nThomas Hengelbrock \nIntroduction to the concert with Thomas Hengelbrock and Friederike Westerhaus at 7 pm
URL:https://www.kulturprojekte.com/en/event/liszt-bruckner-2/
LOCATION:Hamburg\, Elbphilharmonie\, Deutschland
END:VEVENT
BEGIN:VEVENT
DTSTART;TZID=Europe/Berlin:20200418T200000
DTEND;TZID=Europe/Berlin:20200418T230000
DTSTAMP:20260424T021546
CREATED:20190604T151053Z
LAST-MODIFIED:20200325T082329Z
UID:1080-1587240000-1587250800@www.kulturprojekte.com
SUMMARY:LISZT – BRUCKNER // CANCELLED
DESCRIPTION:FRANZ LISZT\nVIA CRUCIS (for choir and organ) \nANTON BRUCKNER\nOS JUSTI WAB 30\nPOSTLUDE D MINOR WAB 126 \nMAX REGER\nO TOD\, WIE BITTER BIST DU Op. 110\,3\nOSTERN Op. 145\,5 \nALBERT BECKER\nICH BIN DIE AUFERSTEHUNG Op. 67\,2 \n  \nOlivier Latry\, organ\nBalthasar Neumann Choir & Soloists\nThomas Hengelbrock
URL:https://www.kulturprojekte.com/en/event/liszt-bruckner/
LOCATION:Bremen\, Glocke\, Deutschland
END:VEVENT
BEGIN:VEVENT
DTSTART;TZID=Europe/Berlin:20200403T193000
DTEND;TZID=Europe/Berlin:20200403T223000
DTSTAMP:20260424T021546
CREATED:20190812T152822Z
LAST-MODIFIED:20200325T082739Z
UID:1542-1585942200-1585953000@www.kulturprojekte.com
SUMMARY:HONEGGER: JEANNE D'ARC AU BÛCHER // CANCELLED
DESCRIPTION:CLAUDE DEBUSSY\nLA DEMOISELLE ÉLUE\nText: Dante Gabriel Rossetti \nElizabeth Reiter\, The Chosen One\nKatharina Magiera\, A Narrator\n \nARTHUR HONEGGER\nJEANNE D’ARC AU BÛCHER\nText: Paul Claudel \nJohanna Wokalek\, Jeanne d’Arc\nSébastien Dutrieux\, Frère Dominique\nFlorina Ilie\, La Vierge\nElizabeth Reiter\, Marguerite\nKatharina Magiera\, Catherine\nPeter Marsh\, Porcus / Herald / Cleric\nBrandon Cedel\, A voice / Herald\nSoloist of the Opera Frankfurt Children’s Choir \nTitus Engel\, Direction\nÀlex Ollé\, Staging\nHans Walter Richter\, scenic rehearsal of the revival\nSusana Gómez\, Co-staging\nAlfons Florens\, Set\nLluc Castells\, Costumes\nJoachim Klein\, Lighting\nFrank Aleu\, Video\nTilman Michael\, Choir Master\nMarcus Ehmann\, Children’s Choir Master\nKonrad Kuhn\, Dramaturgy \nChoir of the Frankfurt Opera\nFrankfurt Opera and Museum Orchestra
URL:https://www.kulturprojekte.com/en/event/honegger-jeanne-darc-au-bucher-4/
LOCATION:Frankfurt\, Oper\, Deutschland
END:VEVENT
BEGIN:VEVENT
DTSTART;TZID=Europe/Berlin:20200329T150000
DTEND;TZID=Europe/Berlin:20200329T180000
DTSTAMP:20260424T021546
CREATED:20190704T160119Z
LAST-MODIFIED:20200325T082757Z
UID:1392-1585494000-1585504800@www.kulturprojekte.com
SUMMARY:WEILL: THE SEVEN DEADLY SINS // CANCELLED
DESCRIPTION:KURT WEILL\nTHE SEVEN DEADLY SINS\nlibretto: Bertolt Brecht\n(version for low female voice\, arrangement: Wilhelm Brückner-Rüggeberg) \nDO NOT FEAR\n(with music from: Threepenny Opera\, Threepenny Suite\, Happy End\, Berlin Requiem\, Rise and Fall of the City of Mahagonny) \nJan Michael Horstmann\, direction\nPina Bausch\, choreography\nRolf Borzik\, set/costumes \nJohanna Wokalek\, singer/actress\nMeret Becker\, singer/actress\nMelissa Madden Gray\, singer/actress \nDancers of the Tanztheater Wuppertal Pina Bausch and guests\nEnsemble intercontemporain
URL:https://www.kulturprojekte.com/en/event/weill-the-seven-deadly-sins-7/
LOCATION:Paris\, Théâtre du Châtelet\, Frankreich
END:VEVENT
BEGIN:VEVENT
DTSTART;TZID=Europe/Berlin:20200328T200000
DTEND;TZID=Europe/Berlin:20200328T230000
DTSTAMP:20260424T021546
CREATED:20190704T155926Z
LAST-MODIFIED:20200325T082815Z
UID:1389-1585425600-1585436400@www.kulturprojekte.com
SUMMARY:WEILL: THE SEVEN DEADLY SINS // CANCELLED
DESCRIPTION:KURT WEILL\nTHE SEVEN DEADLY SINS\nlibretto: Bertolt Brecht\n(version for low female voice\, arrangement: Wilhelm Brückner-Rüggeberg) \nDO NOT FEAR\n(with music from: Threepenny Opera\, Threepenny Suite\, Happy End\, Berlin Requiem\, Rise and Fall of the City of Mahagonny) \nJan Michael Horstmann\, direction\nPina Bausch\, choreography\nRolf Borzik\, set/costumes \nJohanna Wokalek\, singer/actress\nMeret Becker\, singer/actress\nMelissa Madden Gray\, singer/actress \nDancers of the Tanztheater Wuppertal Pina Bausch and guests\nEnsemble intercontemporain
URL:https://www.kulturprojekte.com/en/event/weill-the-seven-deadly-sins-6/
LOCATION:Paris\, Théâtre du Châtelet\, Frankreich
END:VEVENT
BEGIN:VEVENT
DTSTART;TZID=Europe/Berlin:20200327T193000
DTEND;TZID=Europe/Berlin:20200327T223000
DTSTAMP:20260424T021546
CREATED:20190812T152544Z
LAST-MODIFIED:20200325T082831Z
UID:1539-1585337400-1585348200@www.kulturprojekte.com
SUMMARY:HONEGGER: JEANNE D'ARC AU BÛCHER // CANCELLED
DESCRIPTION:CLAUDE DEBUSSY\nLA DEMOISELLE ÉLUE\nText: Dante Gabriel Rossetti \nElizabeth Reiter\, The Chosen One\nKatharina Magiera\, A Narrator\n \nARTHUR HONEGGER\nJEANNE D’ARC AU BÛCHER\nText: Paul Claudel \nJohanna Wokalek\, Jeanne d’Arc\nSébastien Dutrieux\, Frère Dominique\nFlorina Ilie\, La Vierge\nElizabeth Reiter\, Marguerite\nKatharina Magiera\, Catherine\nPeter Marsh\, Porcus / Herald / Cleric\nBrandon Cedel\, A voice / Herald\nSoloist of the Opera Frankfurt Children’s Choir \nTitus Engel\, Direction\nÀlex Ollé\, Staging\nHans Walter Richter\, scenic rehearsal of the revival\nSusana Gómez\, Co-staging\nAlfons Florens\, Set\nLluc Castells\, Costumes\nJoachim Klein\, Lighting\nFrank Aleu\, Video\nTilman Michael\, Choir Master\nMarcus Ehmann\, Children’s Choir Master\nKonrad Kuhn\, Dramaturgy \nChoir of the Frankfurt Opera\nFrankfurt Opera and Museum Orchestra
URL:https://www.kulturprojekte.com/en/event/honegger-jeanne-darc-au-bucher-3/
LOCATION:Frankfurt\, Oper\, Deutschland
END:VEVENT
BEGIN:VEVENT
DTSTART;TZID=Europe/Berlin:20200325T200000
DTEND;TZID=Europe/Berlin:20200325T230000
DTSTAMP:20260424T021546
CREATED:20190704T155728Z
LAST-MODIFIED:20200325T082722Z
UID:1386-1585166400-1585177200@www.kulturprojekte.com
SUMMARY:WEILL: THE SEVEN DEADLY SINS // CANCELLED
DESCRIPTION:KURT WEILL\nTHE SEVEN DEADLY SINS\nlibretto: Bertolt Brecht\n(version for low female voice\, arrangement: Wilhelm Brückner-Rüggeberg) \nDO NOT FEAR\n(with music from: Threepenny Opera\, Threepenny Suite\, Happy End\, Berlin Requiem\, Rise and Fall of the City of Mahagonny) \nJan Michael Horstmann\, direction\nPina Bausch\, choreography\nRolf Borzik\, set/costumes \nJohanna Wokalek\, singer/actress\nMeret Becker\, singer/actress\nMelissa Madden Gray\, singer/actress \nDancers of the Tanztheater Wuppertal Pina Bausch and guests\nEnsemble intercontemporain
URL:https://www.kulturprojekte.com/en/event/weill-the-seven-deadly-sins-5/
LOCATION:Paris\, Théâtre du Châtelet\, Frankreich
END:VEVENT
BEGIN:VEVENT
DTSTART;TZID=Europe/Berlin:20200324T200000
DTEND;TZID=Europe/Berlin:20200324T230000
DTSTAMP:20260424T021546
CREATED:20190704T155525Z
LAST-MODIFIED:20200317T135918Z
UID:1382-1585080000-1585090800@www.kulturprojekte.com
SUMMARY:WEILL: THE SEVEN DEADLY SINS – CANCELLED
DESCRIPTION:KURT WEILL\nTHE SEVEN DEADLY SINS\nlibretto: Bertolt Brecht\n(version for low female voice\, arrangement: Wilhelm Brückner-Rüggeberg) \nDO NOT FEAR\n(with music from: Threepenny Opera\, Threepenny Suite\, Happy End\, Berlin Requiem\, Rise and Fall of the City of Mahagonny) \nJan Michael Horstmann\, direction\nPina Bausch\, choreography\nRolf Borzik\, set/costumes \nJohanna Wokalek\, singer/actress\nMeret Becker\, singer/actress\nMelissa Madden Gray\, singer/actress \nDancers of the Tanztheater Wuppertal Pina Bausch and guests\nEnsemble intercontemporain
URL:https://www.kulturprojekte.com/en/event/weill-the-seven-deadly-sins-4/
LOCATION:Paris\, Théâtre du Châtelet\, Frankreich
END:VEVENT
BEGIN:VEVENT
DTSTART;TZID=Europe/Berlin:20200321T193000
DTEND;TZID=Europe/Berlin:20200321T223000
DTSTAMP:20260424T021546
CREATED:20190812T152323Z
LAST-MODIFIED:20200317T140041Z
UID:1535-1584819000-1584829800@www.kulturprojekte.com
SUMMARY:HONEGGER: JEANNE D'ARC AU BÛCHER – CANCELLED
DESCRIPTION:CLAUDE DEBUSSY\nLA DEMOISELLE ÉLUE\nText: Dante Gabriel Rossetti \nElizabeth Reiter\, The Chosen One\nKatharina Magiera\, A Narrator\n \nARTHUR HONEGGER\nJEANNE D’ARC AU BÛCHER\nText: Paul Claudel \nJohanna Wokalek\, Jeanne d’Arc\nSébastien Dutrieux\, Frère Dominique\nFlorina Ilie\, La Vierge\nElizabeth Reiter\, Marguerite\nKatharina Magiera\, Catherine\nPeter Marsh\, Porcus / Herald / Cleric\nBrandon Cedel\, A voice / Herald\nSoloist of the Opera Frankfurt Children’s Choir \nTitus Engel\, Direction\nÀlex Ollé\, Staging\nHans Walter Richter\, scenic rehearsal of the revival\nSusana Gómez\, Co-staging\nAlfons Florens\, Set\nLluc Castells\, Costumes\nJoachim Klein\, Lighting\nFrank Aleu\, Video\nTilman Michael\, Choir Master\nMarcus Ehmann\, Children’s Choir Master\nKonrad Kuhn\, Dramaturgy \nChoir of the Frankfurt Opera\nFrankfurt Opera and Museum Orchestra
URL:https://www.kulturprojekte.com/en/event/honegger-jeanne-darc-au-bucher-2/
LOCATION:Frankfurt\, Oper\, Deutschland
END:VEVENT
BEGIN:VEVENT
DTSTART;TZID=Europe/Berlin:20200319T200000
DTEND;TZID=Europe/Berlin:20200319T230000
DTSTAMP:20260424T021546
CREATED:20200205T120015Z
LAST-MODIFIED:20200317T133711Z
UID:1748-1584648000-1584658800@www.kulturprojekte.com
SUMMARY:BEETHOVEN – CANCELLED
DESCRIPTION:LUDWIG VAN BEETHOVEN\nMUSIC FOR A BALLET OF KNIGHTS WoO 1\nPIANO CONCERTO E flat major WoO 4\nSYMPHONY No. 1 C major Op. 21 \nMari Kodama\, piano\nOrchestre National de France\nThomas Hengelbrock
URL:https://www.kulturprojekte.com/en/event/beethoven-9/
LOCATION:Paris\, Maison de la Radio\, Frankreich
END:VEVENT
BEGIN:VEVENT
DTSTART;TZID=Europe/Berlin:20200315T180000
DTEND;TZID=Europe/Berlin:20200315T210000
DTSTAMP:20260424T021546
CREATED:20190704T155310Z
LAST-MODIFIED:20191111T120036Z
UID:1379-1584295200-1584306000@www.kulturprojekte.com
SUMMARY:WEILL: THE SEVEN DEADLY SINS
DESCRIPTION:KURT WEILL\nTHE SEVEN DEADLY SINS\nlibretto: Bertolt Brecht\n(version for low female voice\, arrangement: Wilhelm Brückner-Rüggeberg) \nDO NOT FEAR\n(with music from: Threepenny Opera\, Threepenny Suite\, Happy End\, Berlin Requiem\, Rise and Fall of the City of Mahagonny) \nJan Michael Horstmann\, direction\nPina Bausch\, choreography\nRolf Borzik\, set/costumes \nJohanna Wokalek\, singer/actress\nMeret Becker\, singer/actress\nMelissa Madden Gray\, singer/actress \nDancers of the Tanztheater Wuppertal Pina Bausch and guests\nWuppertal Symphony Orchestra
URL:https://www.kulturprojekte.com/en/event/weill-the-seven-deadly-sins-3/
LOCATION:Wuppertal\, Opernhaus\, Deutschland
END:VEVENT
BEGIN:VEVENT
DTSTART;TZID=Europe/Berlin:20200314T193000
DTEND;TZID=Europe/Berlin:20200314T223000
DTSTAMP:20260424T021546
CREATED:20190812T151814Z
LAST-MODIFIED:20190812T162707Z
UID:1532-1584214200-1584225000@www.kulturprojekte.com
SUMMARY:HONEGGER: JEANNE D'ARC AU BÛCHER
DESCRIPTION:CLAUDE DEBUSSY\nLA DEMOISELLE ÉLUE\nText: Dante Gabriel Rossetti \nElizabeth Reiter\, The Chosen One\nKatharina Magiera\, A Narrator\n \nARTHUR HONEGGER\nJEANNE D’ARC AU BÛCHER\nText: Paul Claudel \nJohanna Wokalek\, Jeanne d’Arc\nSébastien Dutrieux\, Frère Dominique\nFlorina Ilie\, La Vierge\nElizabeth Reiter\, Marguerite\nKatharina Magiera\, Catherine\nPeter Marsh\, Porcus / Herald / Cleric\nBrandon Cedel\, A voice / Herald\nSoloist of the Opera Frankfurt Children’s Choir \nTitus Engel\, Direction\nÀlex Ollé\, Staging\nHans Walter Richter\, scenic rehearsal of the revival\nSusana Gómez\, Co-staging\nAlfons Florens\, Set\nLluc Castells\, Costumes\nJoachim Klein\, Lighting\nFrank Aleu\, Video\nTilman Michael\, Choir Master\nMarcus Ehmann\, Children’s Choir Master\nKonrad Kuhn\, Dramaturgy \nChoir of the Frankfurt Opera\nFrankfurt Opera and Museum Orchestra
URL:https://www.kulturprojekte.com/en/event/honegger-jeanne-darc-au-bucher/
LOCATION:Frankfurt\, Oper\, Deutschland
END:VEVENT
BEGIN:VEVENT
DTSTART;TZID=Europe/Berlin:20200313T193000
DTEND;TZID=Europe/Berlin:20200313T223000
DTSTAMP:20260424T021546
CREATED:20190704T155104Z
LAST-MODIFIED:20191111T120102Z
UID:1376-1584127800-1584138600@www.kulturprojekte.com
SUMMARY:WEILL: THE SEVEN DEADLY SINS
DESCRIPTION:KURT WEILL\nTHE SEVEN DEADLY SINS\nlibretto: Bertolt Brecht\n(version for low female voice\, arrangement: Wilhelm Brückner-Rüggeberg) \nDO NOT FEAR\n(with music from: Threepenny Opera\, Threepenny Suite\, Happy End\, Berlin Requiem\, Rise and Fall of the City of Mahagonny) \nJan Michael Horstmann\, direction\nPina Bausch\, choreography\nRolf Borzik\, set/costumes \nJohanna Wokalek\, singer/actress\nMeret Becker\, singer/actress\nMelissa Madden Gray\, singer/actress \nDancers of the Tanztheater Wuppertal Pina Bausch and guests\nWuppertal Symphony Orchestra
URL:https://www.kulturprojekte.com/en/event/weill-the-seven-deadly-sins-2/
LOCATION:Wuppertal\, Opernhaus\, Deutschland
END:VEVENT
BEGIN:VEVENT
DTSTART;TZID=Europe/Berlin:20200310T193000
DTEND;TZID=Europe/Berlin:20200310T223000
DTSTAMP:20260424T021546
CREATED:20190704T154806Z
LAST-MODIFIED:20191111T120130Z
UID:1369-1583868600-1583879400@www.kulturprojekte.com
SUMMARY:WEILL: THE SEVEN DEADLY SINS
DESCRIPTION:KURT WEILL\nTHE SEVEN DEADLY SINS\nlibretto: Bertolt Brecht\n(version for low female voice\, arrangement: Wilhelm Brückner-Rüggeberg) \nDO NOT FEAR\n(with music from: Threepenny Opera\, Threepenny Suite\, Happy End\, Berlin Requiem\, Rise and Fall of the City of Mahagonny) \nJan Michael Horstmann\, direction\nPina Bausch\, choreography\nRolf Borzik\, set/costumes \nJohanna Wokalek\, singer/actress\nMeret Becker\, singer/actress\nMelissa Madden Gray\, singer/actress \nDancers of the Tanztheater Wuppertal Pina Bausch and guests\nWuppertal Symphony Orchestra
URL:https://www.kulturprojekte.com/en/event/weill-the-seven-deadly-sins/
LOCATION:Wuppertal\, Opernhaus\, Deutschland
END:VEVENT
BEGIN:VEVENT
DTSTART;TZID=Europe/Berlin:20200308T180000
DTEND;TZID=Europe/Berlin:20200308T210000
DTSTAMP:20260424T021546
CREATED:20190704T154540Z
LAST-MODIFIED:20191111T120154Z
UID:1365-1583690400-1583701200@www.kulturprojekte.com
SUMMARY:WEILL: THE SEVEN DEADLY SINS
DESCRIPTION:KURT WEILL\nTHE SEVEN DEADLY SINS\nlibretto: Bertolt Brecht\n(version for low female voice\, arrangement: Wilhelm Brückner-Rüggeberg) \nDO NOT FEAR\n(with music from: Threepenny Opera\, Threepenny Suite\, Happy End\, Berlin Requiem\, Rise and Fall of the City of Mahagonny) \nJan Michael Horstmann\, direction\nPina Bausch\, choreography\nRolf Borzik\, set/costumes \nJohanna Wokalek\, singer/actress\nMeret Becker\, singer/actress\nMelissa Madden Gray\, singer/actress \nDancers of the Tanztheater Wuppertal Pina Bausch and guests\nWuppertal Symphony Orchestra
URL:https://www.kulturprojekte.com/en/event/weill-die-sieben-todsuenden-2/
LOCATION:Wuppertal\, Opernhaus\, Deutschland
END:VEVENT
BEGIN:VEVENT
DTSTART;TZID=Europe/Berlin:20200307T193000
DTEND;TZID=Europe/Berlin:20200307T223000
DTSTAMP:20260424T021546
CREATED:20190704T154310Z
LAST-MODIFIED:20191111T120223Z
UID:1359-1583609400-1583620200@www.kulturprojekte.com
SUMMARY:WEILL: THE SEVEN DEADLY SINS
DESCRIPTION:KURT WEILL\nTHE SEVEN DEADLY SINS\nlibretto: Bertolt Brecht\n(version for low female voice\, arrangement: Wilhelm Brückner-Rüggeberg) \nDO NOT FEAR\n(with music from: Threepenny Opera\, Threepenny Suite\, Happy End\, Berlin Requiem\, Rise and Fall of the City of Mahagonny) \nJan Michael Horstmann\, direction\nPina Bausch\, choreography\nRolf Borzik\, set/costumes \nJohanna Wokalek\, singer/actress\nMeret Becker\, singer/actress\nMelissa Madden Gray\, singer/actress \nDancers of the Tanztheater Wuppertal Pina Bausch and guests\nWuppertal Symphony Orchestra
URL:https://www.kulturprojekte.com/en/event/weill-die-sieben-todsuenden/
LOCATION:Wuppertal\, Opernhaus\, Deutschland
END:VEVENT
BEGIN:VEVENT
DTSTART;TZID=Europe/Berlin:20200229T210000
DTEND;TZID=Europe/Berlin:20200229T230000
DTSTAMP:20260424T021546
CREATED:20200205T113839Z
LAST-MODIFIED:20200205T113943Z
UID:1727-1583010000-1583017200@www.kulturprojekte.com
SUMMARY:BEETHOVEN
DESCRIPTION:LUDWIG VAN BEETHOVEN\nOVERTURE TO “EGMONT” Op. 84\nSYMPHONY No. 5 c minor Op. 67 \nRoyal Concertgebouw Orchestra\nThomas Hengelbrock
URL:https://www.kulturprojekte.com/en/event/beethoven-8/
LOCATION:Concertgebouw Amsterdam\, Niederlande
END:VEVENT
BEGIN:VEVENT
DTSTART;TZID=Europe/Berlin:20200228T201500
DTEND;TZID=Europe/Berlin:20200228T231500
DTSTAMP:20260424T021546
CREATED:20200205T113704Z
LAST-MODIFIED:20200205T114059Z
UID:1724-1582920900-1582931700@www.kulturprojekte.com
SUMMARY:BEETHOVEN – LUTOSŁAWSKI
DESCRIPTION:LUDWIG VAN BEETHOVEN\nOVERTURE TO “EGMONT” Op. 84 \nWITOLD LUTOSŁAWSKI\nCONCERTO FOR VIOLONCELLO AND ORCHESTRA \nLUDWIG VAN BEETHOVEN\nSYMPHONY No. 5 c minor Op. 67 \n  \nGregor Horsch\, Violoncello\nRoyal Concertgebouw Orchestra\nThomas Hengelbrock
URL:https://www.kulturprojekte.com/en/event/beethoven-lutoslawski-3/
LOCATION:Concertgebouw Amsterdam\, Niederlande
END:VEVENT
BEGIN:VEVENT
DTSTART;TZID=Europe/Berlin:20200227T201500
DTEND;TZID=Europe/Berlin:20200227T231500
DTSTAMP:20260424T021546
CREATED:20200205T113529Z
LAST-MODIFIED:20200205T114221Z
UID:1721-1582834500-1582845300@www.kulturprojekte.com
SUMMARY:BEETHOVEN – LUTOSŁAWSKI
DESCRIPTION:LUDWIG VAN BEETHOVEN\nOVERTURE TO “EGMONT” Op. 84 \nWITOLD LUTOSŁAWSKI\nCONCERTO FOR VIOLONCELLO AND ORCHESTRA \nLUDWIG VAN BEETHOVEN\nSYMPHONY No. 5 c minor Op. 67 \n  \nGregor Horsch\, Violoncello\nRoyal Concertgebouw Orchestra\nThomas Hengelbrock
URL:https://www.kulturprojekte.com/en/event/beethoven-lutoslawski-2/
LOCATION:Concertgebouw Amsterdam\, Niederlande
END:VEVENT
BEGIN:VEVENT
DTSTART;TZID=Europe/Berlin:20200226T201500
DTEND;TZID=Europe/Berlin:20200226T231500
DTSTAMP:20260424T021546
CREATED:20200205T113328Z
LAST-MODIFIED:20200205T114243Z
UID:1718-1582748100-1582758900@www.kulturprojekte.com
SUMMARY:BEETHOVEN – LUTOSŁAWSKI
DESCRIPTION:LUDWIG VAN BEETHOVEN\nOVERTURE TO “EGMONT” Op. 84 \nWITOLD LUTOSŁAWSKI\nCONCERTO FOR VIOLONCELLO AND ORCHESTRA \nLUDWIG VAN BEETHOVEN\nSYMPHONY No. 5 c minor Op. 67 \n  \nGregor Horsch\, Violoncello\nRoyal Concertgebouw Orchestra\nThomas Hengelbrock
URL:https://www.kulturprojekte.com/en/event/beethoven-lutoslawski/
LOCATION:Concertgebouw Amsterdam\, Niederlande
END:VEVENT
BEGIN:VEVENT
DTSTART;TZID=Europe/Berlin:20200212T203000
DTEND;TZID=Europe/Berlin:20200212T233000
DTSTAMP:20260424T021546
CREATED:20190604T151021Z
LAST-MODIFIED:20200128T130631Z
UID:1055-1581539400-1581550200@www.kulturprojekte.com
SUMMARY:BEETHOVEN
DESCRIPTION:LUDWIG VAN BEETHOVEN\nSYMPHONY NO. 6 F major Op. 68 “Pastoral Symphony”\nMASS C MAJOR Op. 86 \n\nBalthasar Neumann Choir & Soloists\nBalthasar Neumann Ensemble\nThomas Hengelbrock
URL:https://www.kulturprojekte.com/en/event/beethoven-7/
LOCATION:Megaron Athen\, Griechenland
END:VEVENT
BEGIN:VEVENT
DTSTART;TZID=Europe/Berlin:20200211T200000
DTEND;TZID=Europe/Berlin:20200211T230000
DTSTAMP:20260424T021546
CREATED:20190604T150955Z
LAST-MODIFIED:20190604T150955Z
UID:1053-1581451200-1581462000@www.kulturprojekte.com
SUMMARY:BEETHOVEN
DESCRIPTION:LUDWIG VAN BEETHOVEN\nSYMPHONY NO. 6 F major Op. 68 “Pastoral Symphony”\nMASS C MAJOR Op. 86 \n\nBalthasar Neumann Choir & Soloists\nBalthasar Neumann Ensemble\nThomas Hengelbrock
URL:https://www.kulturprojekte.com/en/event/beethoven-6/
LOCATION:Bremen\, Glocke\, Deutschland
END:VEVENT
BEGIN:VEVENT
DTSTART;TZID=Europe/Berlin:20200209T180000
DTEND;TZID=Europe/Berlin:20200209T220000
DTSTAMP:20260424T021546
CREATED:20190604T150746Z
LAST-MODIFIED:20190827T081538Z
UID:1049-1581271200-1581285600@www.kulturprojekte.com
SUMMARY:BEETHOVEN
DESCRIPTION:LUDWIG VAN BEETHOVEN\nSYMPHONY NO. 6 F major Op. 68 “Pastoral Symphony”\n“AH! PERFIDO” concert aria for soprano and orchestra Op. 65\nGLORIA\, from: MASS C MAJOR Op. 86\nPIANO CONCERTO NO. 4 G major Op. 58\nSYMPHONY NO. 5 c minor Op. 67\nSANCTUS and BENEDICTUS\, from: MASS C MAJOR Op. 86\nFANTASY FOR PIANO\, CHORUS AND ORCHESTRA c minor Op. 80 \n  \nKatarina Karnéus\, mezzo-soprano\nKristian Bezuidenhout\, fortepiano\nBalthasar Neumann Choir & Soloists\nBalthasar Neumann Ensemble\nThomas Hengelbrock \nIntroduction to the concert with Thomas Hengelbrock and Friederike Westerhaus at 5 pm
URL:https://www.kulturprojekte.com/en/event/beethoven-5/
LOCATION:Hamburg\, Laeiszhalle\, Deutschland
END:VEVENT
BEGIN:VEVENT
DTSTART;TZID=Europe/Berlin:20200207T183000
DTEND;TZID=Europe/Berlin:20200207T230000
DTSTAMP:20260424T021546
CREATED:20190604T150707Z
LAST-MODIFIED:20190827T081612Z
UID:1047-1581100200-1581116400@www.kulturprojekte.com
SUMMARY:BEETHOVEN
DESCRIPTION:LUDWIG VAN BEETHOVEN\nSYMPHONY NO. 6 F major Op. 68 “Pastoral Symphony”\n“AH! PERFIDO” concert aria for soprano and orchestra Op. 65\nGLORIA\, from: MASS C MAJOR Op. 86\nPIANO CONCERTO NO. 4 G major Op. 58\nSYMPHONY NO. 5 c minor Op. 67\nSANCTUS and BENEDICTUS\, from: MASS C MAJOR Op. 86\nFANTASY FOR PIANO\, CHORUS AND ORCHESTRA c minor Op. 80 \n  \nKatarina Karnéus\, mezzo-soprano\nKristian Bezuidenhout\, fortepiano\nBalthasar Neumann Choir & Soloists\nBalthasar Neumann Ensemble\nThomas Hengelbrock
URL:https://www.kulturprojekte.com/en/event/beethoven-4/
LOCATION:Konzerthaus Dortmund\, Deutschland
END:VEVENT
BEGIN:VEVENT
DTSTART;TZID=Europe/Berlin:20200204T200000
DTEND;TZID=Europe/Berlin:20200204T230000
DTSTAMP:20260424T021546
CREATED:20190604T150625Z
LAST-MODIFIED:20191120T114843Z
UID:1058-1580846400-1580857200@www.kulturprojekte.com
SUMMARY:BEETHOVEN
DESCRIPTION:LUDWIG VAN BEETHOVEN\nPIANO CONCERTO NO. 4 G major Op. 58\nFANTASY FOR PIANO\, CHORUS AND ORCHESTRA c minor Op. 80\nMASS C MAJOR Op. 86 \n  \nKristian Bezuidenhout\, fortepiano\nBalthasar Neumann Choir & Soloists\nBalthasar Neumann Ensemble\nThomas Hengelbrock
URL:https://www.kulturprojekte.com/en/event/beethoven-3/
LOCATION:Bozar Brüssel\, Belgien
END:VEVENT
BEGIN:VEVENT
DTSTART;TZID=Europe/Berlin:20200203T200000
DTEND;TZID=Europe/Berlin:20200203T230000
DTSTAMP:20260424T021546
CREATED:20190604T150548Z
LAST-MODIFIED:20190604T150548Z
UID:1057-1580760000-1580770800@www.kulturprojekte.com
SUMMARY:BEETHOVEN
DESCRIPTION:LUDWIG VAN BEETHOVEN\n“CORIOLAN” OVERTURE Op. 62\nPIANO CONCERTO NO. 4 G major Op. 58\nMASS C MAJOR Op. 86 \n  \nKristian Bezuidenhout\, fortepiano\nBalthasar Neumann Choir & Soloists\nBalthasar Neumann Ensemble\nThomas Hengelbrock
URL:https://www.kulturprojekte.com/en/event/beethoven-2/
LOCATION:Paris\, Théâtre des Champs-Elysées\, Frankreich
END:VEVENT
BEGIN:VEVENT
DTSTART;TZID=Europe/Berlin:20200202T170000
DTEND;TZID=Europe/Berlin:20200202T200000
DTSTAMP:20260424T021546
CREATED:20190604T150520Z
LAST-MODIFIED:20190604T150520Z
UID:1051-1580662800-1580673600@www.kulturprojekte.com
SUMMARY:BEETHOVEN
DESCRIPTION:LUDWIG VAN BEETHOVEN\nSYMPHONY NO. 6 F major Op. 68 “Pastoral Symphony”\nMASS C MAJOR Op. 86 \n\nBalthasar Neumann Choir & Soloists\nBalthasar Neumann Ensemble\nThomas Hengelbrock
URL:https://www.kulturprojekte.com/en/event/beethoven/
LOCATION:Festspielhaus Baden-Baden\, Deutschland
END:VEVENT
BEGIN:VEVENT
DTSTART;TZID=Europe/Berlin:20191208T200000
DTEND;TZID=Europe/Berlin:20191208T230000
DTSTAMP:20260424T021546
CREATED:20190604T150443Z
LAST-MODIFIED:20191125T092856Z
UID:1026-1575835200-1575846000@www.kulturprojekte.com
SUMMARY:TCHAIKOVSKY – SAINT-SAËNS
DESCRIPTION:PYOTR I. TCHAIKOVSKY\nADAGIO MOLTO E flat major ČW 326 \nPAVEL CHESNOKOV\nHYMN OF THE CHERUBIM (Cheruvimskaya pesn) Op. 27\, 5\nANNUNCIATION OF OUR LADY (Sovet prevechnyi) Op. 40\, 2\nPSALM 74 (Spasenije sodelal) Op. 25\, 5 \nALEXANDER GLAZUNOV\nTHEME AND VARIATIONS FOR STRING ORCHESTRA g minor \nCÉSAR CUI\nMAGNIFICAT (Velichit dusha moya Gospoda) Op. 93 \nCAMILLE SAINT-SAËNS\nORATORIO DE NOËL Op. 12 \nAgnes Kovacs\, soprano\nRoxana Constantinescu\, mezzo-soprano\nAnnelie Sophie Müller\, mezzo-soprano\nMirko Ludwig\, tenor\nAndré Morsch\, baritone\nKiril Chobanov\, bass\nBalthasar Neumann Choir\nBalthasar Neumann Ensemble\nThomas Hengelbrock
URL:https://www.kulturprojekte.com/en/event/tchaikovsky-saint-saens-6/
LOCATION:Wilhelmshaven\, Stadthalle\, Deutschland
END:VEVENT
BEGIN:VEVENT
DTSTART;TZID=Europe/Berlin:20191208T170000
DTEND;TZID=Europe/Berlin:20191208T200000
DTSTAMP:20260424T021546
CREATED:20190916T102441Z
LAST-MODIFIED:20190916T102441Z
UID:1355-1575824400-1575835200@www.kulturprojekte.com
SUMMARY:BEETHOVEN – MENDELSSOHN
DESCRIPTION:LUDWIG VAN BEETHOVEN\nVIOLIN CONCERTO D major Op. 61 \nFELIX MENDELSSOHN\nA MIDSUMMER NIGHT’S DREAM\nOverture Op. 21\nIncidental music Op. 61\n(spoken intermezzi by Franzobel) \n  \nDaniel Hope\, violin\nJohanna Wokalek\, recitation\nKatja Stuber\, soprano\nAnne Bierwirth\, alto\nLadies of the La Cetra Vocal Ensemble\nSinfonieorchester Basel\nIvor Bolton
URL:https://www.kulturprojekte.com/en/event/beethoven-mendelssohn-3/
LOCATION:Philharmonie Essen\, Deutschland
END:VEVENT
END:VCALENDAR