BEGIN:VCALENDAR
VERSION:2.0
PRODID:-//BIK - ECPv6.15.20//NONSGML v1.0//EN
CALSCALE:GREGORIAN
METHOD:PUBLISH
X-ORIGINAL-URL:https://www.kulturprojekte.com/en/
X-WR-CALDESC:Events for BIK
REFRESH-INTERVAL;VALUE=DURATION:PT1H
X-Robots-Tag:noindex
X-PUBLISHED-TTL:PT1H
BEGIN:VTIMEZONE
TZID:Europe/Berlin
BEGIN:DAYLIGHT
TZOFFSETFROM:+0100
TZOFFSETTO:+0200
TZNAME:CEST
DTSTART:20190331T010000
END:DAYLIGHT
BEGIN:STANDARD
TZOFFSETFROM:+0200
TZOFFSETTO:+0100
TZNAME:CET
DTSTART:20191027T010000
END:STANDARD
BEGIN:DAYLIGHT
TZOFFSETFROM:+0100
TZOFFSETTO:+0200
TZNAME:CEST
DTSTART:20200329T010000
END:DAYLIGHT
BEGIN:STANDARD
TZOFFSETFROM:+0200
TZOFFSETTO:+0100
TZNAME:CET
DTSTART:20201025T010000
END:STANDARD
BEGIN:DAYLIGHT
TZOFFSETFROM:+0100
TZOFFSETTO:+0200
TZNAME:CEST
DTSTART:20210328T010000
END:DAYLIGHT
BEGIN:STANDARD
TZOFFSETFROM:+0200
TZOFFSETTO:+0100
TZNAME:CET
DTSTART:20211031T010000
END:STANDARD
BEGIN:DAYLIGHT
TZOFFSETFROM:+0100
TZOFFSETTO:+0200
TZNAME:CEST
DTSTART:20220327T010000
END:DAYLIGHT
BEGIN:STANDARD
TZOFFSETFROM:+0200
TZOFFSETTO:+0100
TZNAME:CET
DTSTART:20221030T010000
END:STANDARD
END:VTIMEZONE
BEGIN:VEVENT
DTSTART;TZID=Europe/Berlin:20210516T200000
DTEND;TZID=Europe/Berlin:20210516T230000
DTSTAMP:20260423T153410
CREATED:20210108T103016Z
LAST-MODIFIED:20210428T154827Z
UID:2374-1621195200-1621206000@www.kulturprojekte.com
SUMMARY:ISRAEL IN EGYPT (STREAMING)
DESCRIPTION:G. F. HANDEL\nISRAEL IN EGYPT HWV 54 \nBalthasar Neumann Choir & Soloists\nBalthasar Neumann Ensemble\nThomas Hengelbrock \nStreaming from the Elbphilharmonie Hamburg
URL:https://www.kulturprojekte.com/en/event/israel-in-egypt-4/
LOCATION:Hamburg\, Elbphilharmonie\, Deutschland
END:VEVENT
BEGIN:VEVENT
DTSTART;TZID=Europe/Berlin:20210516T160000
DTEND;TZID=Europe/Berlin:20210516T190000
DTSTAMP:20260423T153410
CREATED:20210108T102628Z
LAST-MODIFIED:20210428T153756Z
UID:2383-1621180800-1621191600@www.kulturprojekte.com
SUMMARY:ISRAEL IN EGYPT // CANCELLED
DESCRIPTION:G. F. HANDEL\nISRAEL IN EGYPT HWV 54 \nBalthasar Neumann Choir & Soloists\nBalthasar Neumann Ensemble\nThomas Hengelbrock
URL:https://www.kulturprojekte.com/en/event/israel-in-egypt/
LOCATION:Lyon\, Auditorium\, Frankreich
END:VEVENT
BEGIN:VEVENT
DTSTART;TZID=Europe/Berlin:20210515T141500
DTEND;TZID=Europe/Berlin:20210515T171500
DTSTAMP:20260423T153410
CREATED:20210108T102932Z
LAST-MODIFIED:20210428T154647Z
UID:2380-1621088100-1621098900@www.kulturprojekte.com
SUMMARY:ISRAEL IN EGYPT (RADIO BROADCAST)
DESCRIPTION:G. F. HANDEL\nISRAEL IN EGYPT HWV 54 \nBalthasar Neumann Choir & Soloists\nBalthasar Neumann Ensemble\nThomas Hengelbrock \nRadio broadcast for radio4.nl
URL:https://www.kulturprojekte.com/en/event/israel-in-egypt-2/
LOCATION:Amsterdam\, Concertgebouw\, Niederlande
END:VEVENT
BEGIN:VEVENT
DTSTART;TZID=Europe/Berlin:20210513T200000
DTEND;TZID=Europe/Berlin:20210513T230000
DTSTAMP:20260423T153410
CREATED:20210108T102951Z
LAST-MODIFIED:20210428T154748Z
UID:2377-1620936000-1620946800@www.kulturprojekte.com
SUMMARY:ISRAEL IN EGYPT // CANCELLED
DESCRIPTION:G. F. HANDEL\nISRAEL IN EGYPT HWV 54 \nBalthasar Neumann Choir & Soloists\nBalthasar Neumann Ensemble\nThomas Hengelbrock
URL:https://www.kulturprojekte.com/en/event/israel-in-egypt-3/
LOCATION:Bremen\, Glocke\, Deutschland
END:VEVENT
BEGIN:VEVENT
DTSTART;TZID=Europe/Berlin:20210511T200000
DTEND;TZID=Europe/Berlin:20210511T230000
DTSTAMP:20260423T153410
CREATED:20210108T103113Z
LAST-MODIFIED:20210428T154939Z
UID:2371-1620763200-1620774000@www.kulturprojekte.com
SUMMARY:ISRAEL IN EGYPT // CANCELLED
DESCRIPTION:G. F. HANDEL\nISRAEL IN EGYPT HWV 54 \nBalthasar Neumann Choir & Soloists\nBalthasar Neumann Ensemble\nThomas Hengelbrock
URL:https://www.kulturprojekte.com/en/event/israel-in-egypt-5/
LOCATION:Freiburg\, Konzerthaus\, Deutschland
END:VEVENT
BEGIN:VEVENT
DTSTART;TZID=Europe/Berlin:20210509T160000
DTEND;TZID=Europe/Berlin:20210509T170000
DTSTAMP:20260423T153410
CREATED:20210108T103136Z
LAST-MODIFIED:20210428T154955Z
UID:2368-1620576000-1620579600@www.kulturprojekte.com
SUMMARY:ISRAEL IN EGYPT // CANCELLED
DESCRIPTION:G. F. HANDEL\nISRAEL IN EGYPT HWV 54 \nBalthasar Neumann Choir & Soloists\nBalthasar Neumann Ensemble\nThomas Hengelbrock
URL:https://www.kulturprojekte.com/en/event/israel-in-egypt-6/
LOCATION:Fontainebleau\, Théâtre Municipal\, Frankreich
END:VEVENT
BEGIN:VEVENT
DTSTART;TZID=Europe/Berlin:20210508T190000
DTEND;TZID=Europe/Berlin:20210508T203000
DTSTAMP:20260423T153410
CREATED:20210323T155651Z
LAST-MODIFIED:20210428T155040Z
UID:2551-1620500400-1620505800@www.kulturprojekte.com
SUMMARY:ISRAEL IN EGYPT // CANCELLED
DESCRIPTION:GEORG FRIEDRICH HÄNDEL\nISRAEL IN EGYPT HWV 54 \nBalthasar Neumann Choir & Soloists\nBalthasar Neumann Ensemble\nThomas Hengelbrock
URL:https://www.kulturprojekte.com/en/event/israel-in-egypt-7-2/
LOCATION:Fontainebleau\, Salle de Bal\, Frankreich
END:VEVENT
BEGIN:VEVENT
DTSTART;TZID=Europe/Berlin:20210507T190000
DTEND;TZID=Europe/Berlin:20210507T210000
DTSTAMP:20260423T153410
CREATED:20210108T143647Z
LAST-MODIFIED:20210428T155057Z
UID:2365-1620414000-1620421200@www.kulturprojekte.com
SUMMARY:ISRAEL IN EGYPT // CANCELLED
DESCRIPTION:G. F. HANDEL\nISRAEL IN EGYPT HWV 54 \nBalthasar Neumann Choir & Soloists\nBalthasar Neumann Ensemble\nThomas Hengelbrock
URL:https://www.kulturprojekte.com/en/event/israel-in-egypt-7/
LOCATION:Fontainebleau\, Salle de Bal\, Frankreich
END:VEVENT
BEGIN:VEVENT
DTSTART;TZID=Europe/Berlin:20210504T080000
DTEND;TZID=Europe/Berlin:20210504T170000
DTSTAMP:20260423T153410
CREATED:20210108T141214Z
LAST-MODIFIED:20210222T113207Z
UID:2349-1620115200-1620147600@www.kulturprojekte.com
SUMMARY:10 YEARS OF KINDERPACT // CANCELLED
DESCRIPTION:KinderPaCT Hamburg e.V.: the specialized\nKinder-Palliativ-Care Team for Hamburg \nSPECIAL CONCERT\nOF THE BALTHASAR NEUMANN ACADEMY\nAND THE CUBAN-EUROPEAN YOUTH ACADEMY \nunder the patronage of\nThomas Hengelbrock \nin cooperation with KinderPaCT Hamburg e.V.
URL:https://www.kulturprojekte.com/en/event/10-jahre-kinderpact/
LOCATION:Hamburg\, Altonaer Kaispeicher\, Deutschland
END:VEVENT
BEGIN:VEVENT
DTSTART;TZID=Europe/Berlin:20210502T170000
DTEND;TZID=Europe/Berlin:20210502T200000
DTSTAMP:20260423T153410
CREATED:20210116T121243Z
LAST-MODIFIED:20210312T115938Z
UID:2480-1619974800-1619985600@www.kulturprojekte.com
SUMMARY:MONTEVERDI // CANCELLED
DESCRIPTION:WORKS BY CLAUDIO MONTEVERDI AND OTHERS \nBalthasar Neumann Choir and Soloists\nBalthasar Neumann Ensemble\nThomas Hengelbrock
URL:https://www.kulturprojekte.com/en/event/werke-von-claudio-monteverdi-u-a-2/
LOCATION:Fontainebleau\, Salle de Bal\, Frankreich
END:VEVENT
BEGIN:VEVENT
DTSTART;TZID=Europe/Berlin:20210331T203000
DTEND;TZID=Europe/Berlin:20210331T220000
DTSTAMP:20260423T153410
CREATED:20210108T140719Z
LAST-MODIFIED:20210312T115847Z
UID:2343-1617222600-1617228000@www.kulturprojekte.com
SUMMARY:BEETHOVEN // CANCELLED
DESCRIPTION:LUDWIG VAN BEETHOVEN\nSYMPHONY NO. 5 C MINOR OP. 67 „FATE SYMPHONY”\nSYMPHONY NO. 6 F MAJOR OP. 68 „PASTORAL“ \nBalthasar Neumann Ensemble\nThomas Hengelbrock
URL:https://www.kulturprojekte.com/en/event/beethoven-11/
LOCATION:Bologna\, Teatro Manzoni\, Italien
END:VEVENT
BEGIN:VEVENT
DTSTART;TZID=Europe/Berlin:20210306T193000
DTEND;TZID=Europe/Berlin:20210306T223000
DTSTAMP:20260423T153410
CREATED:20201014T154502Z
LAST-MODIFIED:20210108T141107Z
UID:2189-1615059000-1615069800@www.kulturprojekte.com
SUMMARY:MÜLLER-WIELAND // CANCELLED
DESCRIPTION:J. MÜLLER-WIELAND\nMARIA\, EINE VERTREIBUNG \nR. SCHUMANN\nSYMPHONY NO. 1 IN B FLAT MAJOR OP. 38 \nJohanna Wokalek Recitation\nPeter Simonischek Recitation\nAndré Morsch Baritone\nBalthasar Neumann Choir & Soloists\nDresden Philharmonic\nThomas Hengelbrock
URL:https://www.kulturprojekte.com/en/event/mueller-wieland/
LOCATION:Dresden\, Kulturpalast\, Deutschland
END:VEVENT
BEGIN:VEVENT
DTSTART;VALUE=DATE:20210228
DTEND;VALUE=DATE:20210301
DTSTAMP:20260423T153410
CREATED:20210108T141039Z
LAST-MODIFIED:20210108T142843Z
UID:2170-1614470400-1614556799@www.kulturprojekte.com
SUMMARY:PINA BAUSCH // CANCELLED
DESCRIPTION:HE TAKES HER BY THE HAND AND LEADS HER INTO THE CASTLE\, THE OTHERS FOLLOW \nA piece by Pina Bausch\, repeat production from 2019 \nPina Bausch Choreography\nRolf Borzik Set Design & Costumes\nJohanna Wokalek\, Maik Solbach Actors\nEnsemble of the Pina Bausch Dance Theater
URL:https://www.kulturprojekte.com/en/event/pina-bausch-4/
LOCATION:London\, Sadler’s Wells Theatre\, Großbritannien (Vereinigtes Königreich)
END:VEVENT
BEGIN:VEVENT
DTSTART;VALUE=DATE:20210227
DTEND;VALUE=DATE:20210228
DTSTAMP:20260423T153410
CREATED:20210108T141024Z
LAST-MODIFIED:20210108T142803Z
UID:2166-1614384000-1614470399@www.kulturprojekte.com
SUMMARY:PINA BAUSCH // CANCELLED
DESCRIPTION:HE TAKES HER BY THE HAND AND LEADS HER INTO THE CASTLE\, THE OTHERS FOLLOW \nA piece by Pina Bausch\, repeat production from 2019 \nPina Bausch Choreography\nRolf Borzik Set Design & Costumes\nJohanna Wokalek\, Maik Solbach Actors\nEnsemble of the Pina Bausch Dance Theater
URL:https://www.kulturprojekte.com/en/event/pina-bausch-3/
LOCATION:London\, Sadler’s Wells Theatre\, Großbritannien (Vereinigtes Königreich)
END:VEVENT
BEGIN:VEVENT
DTSTART;VALUE=DATE:20210226
DTEND;VALUE=DATE:20210227
DTSTAMP:20260423T153410
CREATED:20210108T140953Z
LAST-MODIFIED:20210108T142729Z
UID:2161-1614297600-1614383999@www.kulturprojekte.com
SUMMARY:PINA BAUSCH // CANCELLED
DESCRIPTION:HE TAKES HER BY THE HAND AND LEADS HER INTO THE CASTLE\, THE OTHERS FOLLOW \nA piece by Pina Bausch\, repeat production from 2019 \nPina Bausch Choreography\nRolf Borzik Set Design & Costumes\nJohanna Wokalek\, Maik Solbach Actors\nEnsemble of the Pina Bausch Dance Theater
URL:https://www.kulturprojekte.com/en/event/pina-bausch-2/
LOCATION:London\, Sadler’s Wells Theatre\, Großbritannien (Vereinigtes Königreich)
END:VEVENT
BEGIN:VEVENT
DTSTART;VALUE=DATE:20210225
DTEND;VALUE=DATE:20210226
DTSTAMP:20260423T153410
CREATED:20210108T140932Z
LAST-MODIFIED:20210108T142700Z
UID:2154-1614211200-1614297599@www.kulturprojekte.com
SUMMARY:PINA BAUSCH // CANCELLED
DESCRIPTION:HE TAKES HER BY THE HAND AND LEADS HER INTO THE CASTLE\, THE OTHERS FOLLOW \nA piece by Pina Bausch\, repeat production from 2019 \nPina Bausch Choreography\nRolf Borzik Set Design & Costumes\nJohanna Wokalek\, Maik Solbach Actors\nEnsemble of the Pina Bausch Dance Theater
URL:https://www.kulturprojekte.com/en/event/pina-bausch/
LOCATION:London\, Sadler’s Wells Theatre\, Großbritannien (Vereinigtes Königreich)
END:VEVENT
BEGIN:VEVENT
DTSTART;TZID=Europe/Berlin:20210208T200000
DTEND;TZID=Europe/Berlin:20210208T230000
DTSTAMP:20260423T153410
CREATED:20201014T154117Z
LAST-MODIFIED:20210129T172131Z
UID:2339-1612814400-1612825200@www.kulturprojekte.com
SUMMARY:BRAHMS // CANCELLED
DESCRIPTION:JOHANNES BRAHMS\nA GERMAN REQUIEM OP. 45 \nKatharina Konradi Soprano\nMatthias Goerne Baritone\nBalthasar Neumann Choir\nBalthasar Neumann Ensemble\nThomas Hengelbrock
URL:https://www.kulturprojekte.com/en/event/brahms-9/
LOCATION:Paris\, Théâtre des Champs-Elysées\, Frankreich
END:VEVENT
BEGIN:VEVENT
DTSTART;TZID=Europe/Berlin:20210207T200000
DTEND;TZID=Europe/Berlin:20210207T230000
DTSTAMP:20260423T153410
CREATED:20201014T154048Z
LAST-MODIFIED:20210129T172023Z
UID:2336-1612728000-1612738800@www.kulturprojekte.com
SUMMARY:BRAHMS // CANCELLED
DESCRIPTION:JOHANNES BRAHMS\nA GERMAN REQUIEM OP. 45 \nKatharina Konradi Soprano\nMichael Nagy Baritone\nBalthasar Neumann Choir\nBalthasar Neumann Ensemble\nThomas Hengelbrock
URL:https://www.kulturprojekte.com/en/event/brahms-8/
LOCATION:Bozar Brüssel\, Belgien
END:VEVENT
BEGIN:VEVENT
DTSTART;TZID=Europe/Berlin:20210206T200000
DTEND;TZID=Europe/Berlin:20210206T230000
DTSTAMP:20260423T153410
CREATED:20201014T154019Z
LAST-MODIFIED:20210129T172004Z
UID:2333-1612641600-1612652400@www.kulturprojekte.com
SUMMARY:BRAHMS // CANCELLED
DESCRIPTION:JOHANNES BRAHMS\nA GERMAN REQUIEM OP. 45 \nKatharina Konradi Soprano\nMichael Nagy Baritone\nBalthasar Neumann Choir\nBalthasar Neumann Ensemble\nThomas Hengelbrock
URL:https://www.kulturprojekte.com/en/event/brahms-7/
LOCATION:Konzerthaus Dortmund\, Deutschland
END:VEVENT
BEGIN:VEVENT
DTSTART;TZID=Europe/Berlin:20210204T200000
DTEND;TZID=Europe/Berlin:20210204T230000
DTSTAMP:20260423T153410
CREATED:20201014T153943Z
LAST-MODIFIED:20210129T171903Z
UID:2330-1612468800-1612479600@www.kulturprojekte.com
SUMMARY:BRAHMS // CANCELLED
DESCRIPTION:JOHANNES BRAHMS\nA GERMAN REQUIEM OP. 45 \nRegula Mühlemann Soprano\nMichael Nagy Baritone\nBalthasar Neumann Choir\nBalthasar Neumann Ensemble\nThomas Hengelbrock
URL:https://www.kulturprojekte.com/en/event/brahms-6/
LOCATION:Barcelona\, Palau de la Música Catalana\, Spanien
END:VEVENT
BEGIN:VEVENT
DTSTART;TZID=Europe/Berlin:20210203T200000
DTEND;TZID=Europe/Berlin:20210203T230000
DTSTAMP:20260423T153410
CREATED:20201014T153912Z
LAST-MODIFIED:20210129T171841Z
UID:2326-1612382400-1612393200@www.kulturprojekte.com
SUMMARY:ROMANTIC CHOIR MUSIC // CANCELLED
DESCRIPTION:CHOIR MUSIC BY LISZT\, VIVANCOS AND OTHERS\n \nJuan de la Rubia Organ\nBalthasar Neumann Choir & Soloists\nThomas Hengelbrock
URL:https://www.kulturprojekte.com/en/event/romantische-chormusik/
LOCATION:Barcelona\, Palau de la Música Catalana\, Spanien
END:VEVENT
BEGIN:VEVENT
DTSTART;TZID=Europe/Berlin:20210202T190000
DTEND;TZID=Europe/Berlin:20210202T220000
DTSTAMP:20260423T153410
CREATED:20201014T153811Z
LAST-MODIFIED:20210129T171745Z
UID:2322-1612292400-1612303200@www.kulturprojekte.com
SUMMARY:BRAHMS // CANCELLED
DESCRIPTION:JOHANNES BRAHMS\nA GERMAN REQUIEM OP. 45 \nRegula Mühlemann Soprano\nMichael Nagy Baritone\nBalthasar Neumann Choir\nBalthasar Neumann Ensemble\nThomas Hengelbrock
URL:https://www.kulturprojekte.com/en/event/brahms-5/
LOCATION:Auditorio Nacional de Música Madrid\, Spanien
END:VEVENT
BEGIN:VEVENT
DTSTART;TZID=Europe/Berlin:20210131T200000
DTEND;TZID=Europe/Berlin:20210131T230000
DTSTAMP:20260423T153410
CREATED:20201014T153732Z
LAST-MODIFIED:20210108T135255Z
UID:2319-1612123200-1612134000@www.kulturprojekte.com
SUMMARY:BRAHMS // CANCELLED
DESCRIPTION:JOHANNES BRAHMS\nA GERMAN REQUIEM OP. 45 \nKatharina Konradi Soprano\nMichael Nagy Baritone\nBalthasar Neumann Choir\nBalthasar Neumann Ensemble\nThomas Hengelbrock
URL:https://www.kulturprojekte.com/en/event/brahms-4/
LOCATION:Konzerthaus Freiburg\, Deutschland
END:VEVENT
BEGIN:VEVENT
DTSTART;TZID=Europe/Berlin:20210130T200000
DTEND;TZID=Europe/Berlin:20210130T230000
DTSTAMP:20260423T153410
CREATED:20201014T153701Z
LAST-MODIFIED:20210108T135125Z
UID:2315-1612036800-1612047600@www.kulturprojekte.com
SUMMARY:BRAHMS // CANCELLED
DESCRIPTION:JOHANNES BRAHMS\nA GERMAN REQUIEM OP. 45 \nKatharina Konradi Soprano\nMichael Nagy Baritone\nBalthasar Neumann Choir\nBalthasar Neumann Ensemble\nThomas Hengelbrock
URL:https://www.kulturprojekte.com/en/event/brahms-3/
LOCATION:Hamburg\, Laeiszhalle\, Deutschland
END:VEVENT
BEGIN:VEVENT
DTSTART;TZID=Europe/Berlin:20210128T200000
DTEND;TZID=Europe/Berlin:20210128T213000
DTSTAMP:20260423T153410
CREATED:20201216T085931Z
LAST-MODIFIED:20210120T164100Z
UID:2297-1611864000-1611869400@www.kulturprojekte.com
SUMMARY:STREAMING: MOZART WEEK DIGITAL
DESCRIPTION:WOLFGANG AMADEUS MOZART\nARIAS AND DUETS\nSYMPHONY NO. 41 C MAJOR KV 551 „JUPITER“ \nKatharina Konradi Soprano\nJonathan Abernethy Tenor\nBalthasar Neumann Ensemble\nThomas Hengelbrock \n  \nThe streaming production will take place as part of the Mozart Week Digital 2021.
URL:https://www.kulturprojekte.com/en/event/mozart-i/
LOCATION:Salzburg\, Mozarteum\, Österreich
END:VEVENT
BEGIN:VEVENT
DTSTART;TZID=Europe/Berlin:20210122T203000
DTEND;TZID=Europe/Berlin:20210122T220000
DTSTAMP:20260423T153410
CREATED:20201216T090110Z
LAST-MODIFIED:20210108T134453Z
UID:2299-1611347400-1611352800@www.kulturprojekte.com
SUMMARY:MOZART II // CANCELLED
DESCRIPTION:WOLFGANG AMADEUS MOZART  \nARIAS AND DUETS\nSYMPHONY NO. 41  KV 551 „JUPITER“ \nKatharina Konradi soprano\nJonathan Abernethy tenor\nBalthasar Neumann Ensemble\nThomas Hengelbrock
URL:https://www.kulturprojekte.com/en/event/mozart-ii/
LOCATION:Salzburg\, Mozarteum\, Österreich
END:VEVENT
BEGIN:VEVENT
DTSTART;TZID=Europe/Berlin:20201211T200000
DTEND;TZID=Europe/Berlin:20201211T230000
DTSTAMP:20260423T153410
CREATED:20200911T124650Z
LAST-MODIFIED:20201126T174359Z
UID:2064-1607716800-1607727600@www.kulturprojekte.com
SUMMARY:MASS IN B MINOR // CANCELLED
DESCRIPTION:JOHANN SEBASTIAN BACH\nMASS IN B MINOR BWV 232 \nBalthasar Neumann Choir & Soloists\nBalthasar Neumann Ensemble\nThomas Hengelbrock
URL:https://www.kulturprojekte.com/en/event/h-moll-messe-7/
LOCATION:Stuttgart\, Liederhalle\, Deutschland
END:VEVENT
BEGIN:VEVENT
DTSTART;TZID=Europe/Berlin:20201210T200000
DTEND;TZID=Europe/Berlin:20201210T230000
DTSTAMP:20260423T153410
CREATED:20200911T124615Z
LAST-MODIFIED:20201126T174341Z
UID:2067-1607630400-1607641200@www.kulturprojekte.com
SUMMARY:MASS IN B MINOR // CANCELLED
DESCRIPTION:JOHANN SEBASTIAN BACH\nMASS IN B MINOR BWV 232 \nBalthasar Neumann Choir & Soloists\nBalthasar Neumann Ensemble\nThomas Hengelbrock
URL:https://www.kulturprojekte.com/en/event/h-moll-messe-6/
LOCATION:Freiburg\, Christuskirche\, Deutschland
END:VEVENT
BEGIN:VEVENT
DTSTART;TZID=Europe/Berlin:20201209T200000
DTEND;TZID=Europe/Berlin:20201209T230000
DTSTAMP:20260423T153410
CREATED:20200911T124535Z
LAST-MODIFIED:20201126T174316Z
UID:2070-1607544000-1607554800@www.kulturprojekte.com
SUMMARY:MASS IN B MINOR // CANCELLED
DESCRIPTION:JOHANN SEBASTIAN BACH\nMASS IN B MINOR BWV 232 \nBalthasar Neumann Choir & Soloists\nBalthasar Neumann Ensemble\nThomas Hengelbrock
URL:https://www.kulturprojekte.com/en/event/h-moll-messe-5/
LOCATION:Luxemburg\, Philharmonie\, Luxemburg
END:VEVENT
BEGIN:VEVENT
DTSTART;TZID=Europe/Berlin:20201207T203000
DTEND;TZID=Europe/Berlin:20201207T230000
DTSTAMP:20260423T153410
CREATED:20200911T124449Z
LAST-MODIFIED:20201126T173428Z
UID:2073-1607373000-1607382000@www.kulturprojekte.com
SUMMARY:MASS IN B MINOR // CANCELLED
DESCRIPTION:JOHANN SEBASTIAN BACH\nMASS IN B MINOR BWV 232 \nBalthasar Neumann Choir & Soloists\nBalthasar Neumann Ensemble\nThomas Hengelbrock
URL:https://www.kulturprojekte.com/en/event/h-moll-messe-4/
LOCATION:Megaron Athen\, Griechenland
END:VEVENT
END:VCALENDAR